BEGIN:VCALENDAR
VERSION:2.0
PRODID:-//Powell Township - ECPv6.15.15//NONSGML v1.0//EN
CALSCALE:GREGORIAN
METHOD:PUBLISH
X-ORIGINAL-URL:https://powelltownship.org
X-WR-CALDESC:Events for Powell Township
REFRESH-INTERVAL;VALUE=DURATION:PT1H
X-Robots-Tag:noindex
X-PUBLISHED-TTL:PT1H
BEGIN:VTIMEZONE
TZID:America/New_York
BEGIN:DAYLIGHT
TZOFFSETFROM:-0500
TZOFFSETTO:-0400
TZNAME:EDT
DTSTART:20180311T070000
END:DAYLIGHT
BEGIN:STANDARD
TZOFFSETFROM:-0400
TZOFFSETTO:-0500
TZNAME:EST
DTSTART:20181104T060000
END:STANDARD
BEGIN:DAYLIGHT
TZOFFSETFROM:-0500
TZOFFSETTO:-0400
TZNAME:EDT
DTSTART:20190310T070000
END:DAYLIGHT
BEGIN:STANDARD
TZOFFSETFROM:-0400
TZOFFSETTO:-0500
TZNAME:EST
DTSTART:20191103T060000
END:STANDARD
BEGIN:DAYLIGHT
TZOFFSETFROM:-0500
TZOFFSETTO:-0400
TZNAME:EDT
DTSTART:20200308T070000
END:DAYLIGHT
BEGIN:STANDARD
TZOFFSETFROM:-0400
TZOFFSETTO:-0500
TZNAME:EST
DTSTART:20201101T060000
END:STANDARD
END:VTIMEZONE
BEGIN:VTIMEZONE
TZID:UTC
BEGIN:STANDARD
TZOFFSETFROM:+0000
TZOFFSETTO:+0000
TZNAME:UTC
DTSTART:20180101T000000
END:STANDARD
END:VTIMEZONE
BEGIN:VEVENT
DTSTART;TZID=America/New_York:20191003T140000
DTEND;TZID=America/New_York:20191003T150000
DTSTAMP:20260422T060625
CREATED:20190926T133827Z
LAST-MODIFIED:20190926T133851Z
UID:787-1570111200-1570114800@powelltownship.org
SUMMARY:Treasurer's Office Hours
DESCRIPTION:
URL:https://powelltownship.org/event/treasurers-office-hours-2/
END:VEVENT
BEGIN:VEVENT
DTSTART;VALUE=DATE:20191006
DTEND;VALUE=DATE:20191013
DTSTAMP:20260422T060625
CREATED:20191007T141211Z
LAST-MODIFIED:20191007T141216Z
UID:803-1570320000-1570924799@powelltownship.org
SUMMARY:Fire Prevention Week
DESCRIPTION:
URL:https://powelltownship.org/event/fire-prevention-week/
END:VEVENT
BEGIN:VEVENT
DTSTART;VALUE=DATE:20191014
DTEND;VALUE=DATE:20191015
DTSTAMP:20260422T060625
CREATED:20190624T233236Z
LAST-MODIFIED:20190624T233236Z
UID:156-1571011200-1571097599@powelltownship.org
SUMMARY:Columbus Day (Township Offices are Open)
DESCRIPTION:The Township Offices will be open on this Holiday
URL:https://powelltownship.org/event/columbus-day-township-offices-are-open/
END:VEVENT
BEGIN:VEVENT
DTSTART;TZID=America/New_York:20191016T190000
DTEND;TZID=America/New_York:20191016T190000
DTSTAMP:20260422T060625
CREATED:20190923T132058Z
LAST-MODIFIED:20191007T141343Z
UID:782-1571252400-1571252400@powelltownship.org
SUMMARY:Planning Commission Master Plan Open House
DESCRIPTION:Please come and share your ideas and opinions regarding the future of Powell Township on Wednesday\, October 16\, 2019 at 7 PM at the Powell Township Hall located at 101 Benzinger Street\, Big Bay\, MI 49808. \nThe Powell Township Planning Commission is in the process of updating the community’s Master Plan. Your input is an important component of the plan and shapes the community’s road map to the future! \nA short presentation will be followed by discussion and review of zoning\, recreation and future land use maps. \nLight refreshments will be served!
URL:https://powelltownship.org/event/planning-commission-master-plan-open-house/
END:VEVENT
BEGIN:VEVENT
DTSTART;VALUE=DATE:20191019
DTEND;VALUE=DATE:20191020
DTSTAMP:20260422T060625
CREATED:20191007T140008Z
LAST-MODIFIED:20191007T143107Z
UID:798-1571443200-1571529599@powelltownship.org
SUMMARY:Yellow Dog Watershed Dog Dash
DESCRIPTION:  \n\n\n\n\nFROM YELLOW DOG WATERSHED WEBSITE \n“The Yellow Dog Watershed Preserve is excited to present it’s 1st Annual Yellow Dog Dash Trail Run\, Saturday\, October 19th.   Come join the fun and beauty of the woods this fall and run for a great cause. All registration donations go towards keeping our programs up and “running”!\nWe invite you to participate in a 5/10k walk/trail run on the Lizard Loppet Trail. And don’t forget about the kiddies. We are also including a 1/2 mile kids run for the little whipper snappers. \nRegistration begins at 9:30am near the Yellow Dog bridge off County Road 510\, approximately 4 miles off the paved 510/Triple A intersection.  Watch for signage at the bridge\, and you will be directed to a designated parking area. \nThe kids race starts at 10:30am\, and the 5/10k will begin at 11:00am.  1st-3rd prizes will be given to participants in each event.  And we invite everyone to stay post race for a social gathering and potlatch at the Yellow Dog’s Wilderness Camp.  Bring a dish to pass\, or beverages to share\, and enjoy live music\, a warm camp fire and great people in a beautiful wilderness area. \nWe please ask that no plastic water bottles be brought to this event.  Reusable water bottles/containers are encouraged and the YDWP will provide local spring water to quench your thirst! \nWe welcome you to our neck of the woods this October! Run\, walk or simply donate\, the Yellow Dog River thanks you!” \n\n\n\n\n 
URL:https://powelltownship.org/event/yellow-dog-watershed-dog-dash/
END:VEVENT
END:VCALENDAR