BEGIN:VCALENDAR
VERSION:2.0
PRODID:-//Powell Township - ECPv6.15.15//NONSGML v1.0//EN
CALSCALE:GREGORIAN
METHOD:PUBLISH
X-ORIGINAL-URL:https://powelltownship.org
X-WR-CALDESC:Events for Powell Township
REFRESH-INTERVAL;VALUE=DURATION:PT1H
X-Robots-Tag:noindex
X-PUBLISHED-TTL:PT1H
BEGIN:VTIMEZONE
TZID:America/New_York
BEGIN:DAYLIGHT
TZOFFSETFROM:-0500
TZOFFSETTO:-0400
TZNAME:EDT
DTSTART:20190310T070000
END:DAYLIGHT
BEGIN:STANDARD
TZOFFSETFROM:-0400
TZOFFSETTO:-0500
TZNAME:EST
DTSTART:20191103T060000
END:STANDARD
BEGIN:DAYLIGHT
TZOFFSETFROM:-0500
TZOFFSETTO:-0400
TZNAME:EDT
DTSTART:20200308T070000
END:DAYLIGHT
BEGIN:STANDARD
TZOFFSETFROM:-0400
TZOFFSETTO:-0500
TZNAME:EST
DTSTART:20201101T060000
END:STANDARD
BEGIN:DAYLIGHT
TZOFFSETFROM:-0500
TZOFFSETTO:-0400
TZNAME:EDT
DTSTART:20210314T070000
END:DAYLIGHT
BEGIN:STANDARD
TZOFFSETFROM:-0400
TZOFFSETTO:-0500
TZNAME:EST
DTSTART:20211107T060000
END:STANDARD
END:VTIMEZONE
BEGIN:VEVENT
DTSTART;TZID=America/New_York:20200102T180000
DTEND;TZID=America/New_York:20200102T190000
DTSTAMP:20260421T231008
CREATED:20191219T023114Z
LAST-MODIFIED:20191219T023116Z
UID:941-1577988000-1577991600@powelltownship.org
SUMMARY:Ambulance Department Meeting
DESCRIPTION:The Powell Township Ambulance Department meeting will take place Thursday\, January 2nd at 6:00 pm at the Big Bay fire hall. 
URL:https://powelltownship.org/event/ambulance-department-meeting/
END:VEVENT
BEGIN:VEVENT
DTSTART;TZID=America/New_York:20200114T183000
DTEND;TZID=America/New_York:20200114T193000
DTSTAMP:20260421T231008
CREATED:20191219T022842Z
LAST-MODIFIED:20191219T022845Z
UID:937-1579026600-1579030200@powelltownship.org
SUMMARY:Parks and Recreation Meeting
DESCRIPTION:The Parks and Recreation Committee will be meeting on Tuesday\, January 14th\, 2020 at 6:30 pm at the Powell Township Hall. 
URL:https://powelltownship.org/event/parks-and-recreation-meeting-2/
END:VEVENT
BEGIN:VEVENT
DTSTART;TZID=America/New_York:20200115T183000
DTEND;TZID=America/New_York:20200115T193000
DTSTAMP:20260421T231008
CREATED:20191219T022330Z
LAST-MODIFIED:20191219T022332Z
UID:931-1579113000-1579116600@powelltownship.org
SUMMARY:Planning Commission Meeting
DESCRIPTION:The Powell Township Planning Commission meeting will take place on Wednesday\, January 15th\, 2020 at 6:30 p.m. at the Township Hall. 
URL:https://powelltownship.org/event/planning-commission-meeting-2/
END:VEVENT
BEGIN:VEVENT
DTSTART;TZID=America/New_York:20200118T180000
DTEND;TZID=America/New_York:20200118T190000
DTSTAMP:20260421T231008
CREATED:20191219T022605Z
LAST-MODIFIED:20191219T022608Z
UID:933-1579370400-1579374000@powelltownship.org
SUMMARY:Parks and Recreation Lantern Snowshoe
DESCRIPTION:Parks and Recreation will be hosting a lantern snowshoe at Thomas Rock on Saturday\, January 18th\, 2020 at 6:00 pm. There will be a bonfire and hot dogs! 
URL:https://powelltownship.org/event/parks-and-recreation-lantern-snowshoe/
END:VEVENT
BEGIN:VEVENT
DTSTART;VALUE=DATE:20200120
DTEND;VALUE=DATE:20200121
DTSTAMP:20260421T231008
CREATED:20191228T155417Z
LAST-MODIFIED:20191228T155420Z
UID:967-1579478400-1579564799@powelltownship.org
SUMMARY:Martin Luther King Day- Offices Closed
DESCRIPTION:The Powell Township Offices will be closed on Monday\, January 20th\, 2020 in observance of Martin Luther King Day 
URL:https://powelltownship.org/event/martin-luther-king-day-offices-closed/
END:VEVENT
BEGIN:VEVENT
DTSTART;TZID=America/New_York:20200121T190000
DTEND;TZID=America/New_York:20200121T200000
DTSTAMP:20260421T231008
CREATED:20191219T022217Z
LAST-MODIFIED:20191219T022221Z
UID:929-1579633200-1579636800@powelltownship.org
SUMMARY:Township Board Meeting
DESCRIPTION:The Township Board meeting will take place on Tuesday\, January 21st\, 2020 at 7:00 p.m. at the Powell Township Hall. 
URL:https://powelltownship.org/event/township-board-meeting-2/
END:VEVENT
BEGIN:VEVENT
DTSTART;TZID=America/New_York:20200130T190000
DTEND;TZID=America/New_York:20200130T200000
DTSTAMP:20260421T231008
CREATED:20191219T022959Z
LAST-MODIFIED:20191219T023002Z
UID:939-1580410800-1580414400@powelltownship.org
SUMMARY:Fire Department Meeting
DESCRIPTION:The Powell Township Fire Department will be meeting on Thursday\, January 30th\, 2020 at 7:00 pm at the Big Bay fire hall. 
URL:https://powelltownship.org/event/fire-department-meeting/
END:VEVENT
BEGIN:VEVENT
DTSTART;TZID=America/New_York:20200131T110000
DTEND;TZID=America/New_York:20200131T120000
DTSTAMP:20260421T231008
CREATED:20200127T164613Z
LAST-MODIFIED:20200127T164628Z
UID:1035-1580468400-1580472000@powelltownship.org
SUMMARY:State Representative Greg Markkanen at Powell Township Hall
DESCRIPTION:Greg Markkanen State Representative of the 110th District will be at the Powell Township Hall on Friday\, January 31st\, 2020 from 11am-12pm for open discussion with the public. 
URL:https://powelltownship.org/event/state-representative-greg-markkanen-at-powell-township-hall/
END:VEVENT
END:VCALENDAR