BEGIN:VCALENDAR
VERSION:2.0
PRODID:-//Powell Township - ECPv6.15.15//NONSGML v1.0//EN
CALSCALE:GREGORIAN
METHOD:PUBLISH
X-ORIGINAL-URL:https://powelltownship.org
X-WR-CALDESC:Events for Powell Township
REFRESH-INTERVAL;VALUE=DURATION:PT1H
X-Robots-Tag:noindex
X-PUBLISHED-TTL:PT1H
BEGIN:VTIMEZONE
TZID:America/New_York
BEGIN:DAYLIGHT
TZOFFSETFROM:-0500
TZOFFSETTO:-0400
TZNAME:EDT
DTSTART:20190310T070000
END:DAYLIGHT
BEGIN:STANDARD
TZOFFSETFROM:-0400
TZOFFSETTO:-0500
TZNAME:EST
DTSTART:20191103T060000
END:STANDARD
BEGIN:DAYLIGHT
TZOFFSETFROM:-0500
TZOFFSETTO:-0400
TZNAME:EDT
DTSTART:20200308T070000
END:DAYLIGHT
BEGIN:STANDARD
TZOFFSETFROM:-0400
TZOFFSETTO:-0500
TZNAME:EST
DTSTART:20201101T060000
END:STANDARD
BEGIN:DAYLIGHT
TZOFFSETFROM:-0500
TZOFFSETTO:-0400
TZNAME:EDT
DTSTART:20210314T070000
END:DAYLIGHT
BEGIN:STANDARD
TZOFFSETFROM:-0400
TZOFFSETTO:-0500
TZNAME:EST
DTSTART:20211107T060000
END:STANDARD
END:VTIMEZONE
BEGIN:VEVENT
DTSTART;TZID=America/New_York:20200206T183000
DTEND;TZID=America/New_York:20200206T193000
DTSTAMP:20260421T204437
CREATED:20200116T163459Z
LAST-MODIFIED:20200116T163502Z
UID:990-1581013800-1581017400@powelltownship.org
SUMMARY:Ambulance Department Meeting
DESCRIPTION:The Powell Township Ambulance Department meeting will take place on February 6th\, 2020 at 6:30pm at the Big Bay Fire Hall. 
URL:https://powelltownship.org/event/ambulance-department-meeting-2/
END:VEVENT
BEGIN:VEVENT
DTSTART;TZID=America/New_York:20200208T080000
DTEND;TZID=America/New_York:20200209T140000
DTSTAMP:20260421T204437
CREATED:20200116T172040Z
LAST-MODIFIED:20200116T172043Z
UID:994-1581148800-1581256800@powelltownship.org
SUMMARY:Annual Fishing Derby
DESCRIPTION:The Annual Fishing Derby will take place Saturday\, February 8th- Sunday\, February 9th 2020 and is hosted by the Big Bay 550 Snowmobile Club. 
URL:https://powelltownship.org/event/annual-fishing-derby/
END:VEVENT
BEGIN:VEVENT
DTSTART;TZID=America/New_York:20200208T130000
DTEND;TZID=America/New_York:20200208T160000
DTSTAMP:20260421T204437
CREATED:20200116T171726Z
LAST-MODIFIED:20200116T171729Z
UID:992-1581166800-1581177600@powelltownship.org
SUMMARY:Honey Bear Classic Ski
DESCRIPTION:Join us on Saturday\, February 8\,2020 at 1:00 pm in celebrating the Honey Bear Classic Ski Event held on the scenic Big Bay Pathway located in Big Bay\, MI \, 25 miles north of Marquette. This family friendly event will host a Fun Ski for youth and adults\, door prizes\, a warming fire\, and the annual weenie roast. Have your photo taken with the local Honey Bear!  \nThe Fun Ski and snowshoe trek will loop the scenic Hidden Grin trail due to local logging along the upper parts of the Pathway. Register at the Honey Bear Tent located on Schenk Ave.\, adjacent to the Powell Township School. Participants will ski/snowshoe the new connector trail out to the Pathway. A $15 donation is suggested for adults\, $10 for teens 13-18\, and $5 for kids under 12 years of age.  \nThis event helps support the grooming and maintenance of the Big Bay Pathway Ski Trails. 
URL:https://powelltownship.org/event/honey-bear-classic-ski/
END:VEVENT
BEGIN:VEVENT
DTSTART;TZID=America/New_York:20200211T183000
DTEND;TZID=America/New_York:20200211T193000
DTSTAMP:20260421T204437
CREATED:20200116T163040Z
LAST-MODIFIED:20200116T163056Z
UID:986-1581445800-1581449400@powelltownship.org
SUMMARY:Parks & Recreation Meeting
DESCRIPTION:The Powell Township Parks and Recreation meeting will take place on February 11th\, 2020 at 6:.30pm at the Tonwship Hall. 
URL:https://powelltownship.org/event/parks-recreation-meeting/
END:VEVENT
BEGIN:VEVENT
DTSTART;TZID=America/New_York:20200213T190000
DTEND;TZID=America/New_York:20200213T200000
DTSTAMP:20260421T204437
CREATED:20200203T165521Z
LAST-MODIFIED:20200203T165524Z
UID:1057-1581620400-1581624000@powelltownship.org
SUMMARY:Township Board Meeting of the Whole
DESCRIPTION:The Powell Township Board will have a Meeting of the Whole at the Township Hall at 7:00pm.
URL:https://powelltownship.org/event/township-board-meeting-of-the-whole/
END:VEVENT
BEGIN:VEVENT
DTSTART;VALUE=DATE:20200217
DTEND;VALUE=DATE:20200218
DTSTAMP:20260421T204437
CREATED:20191228T155633Z
LAST-MODIFIED:20191228T155635Z
UID:969-1581897600-1581983999@powelltownship.org
SUMMARY:President's Day- Offices Closed
DESCRIPTION:The Powell Township Government Offices will be closed Monday\, February 17th\, 2020 in observance of President’s Day. 
URL:https://powelltownship.org/event/presidents-day-offices-closed/
END:VEVENT
BEGIN:VEVENT
DTSTART;TZID=America/New_York:20200218T190000
DTEND;TZID=America/New_York:20200218T200000
DTSTAMP:20260421T204437
CREATED:20200116T162832Z
LAST-MODIFIED:20200116T162858Z
UID:984-1582052400-1582056000@powelltownship.org
SUMMARY:Township Board Meeting
DESCRIPTION:The Powell Township Board Meeting will take place on February\, 18th at 7:00pm at the Township Hall. 
URL:https://powelltownship.org/event/township-board-meeting-4/
END:VEVENT
BEGIN:VEVENT
DTSTART;TZID=America/New_York:20200219T190000
DTEND;TZID=America/New_York:20200219T200000
DTSTAMP:20260421T204437
CREATED:20200116T162136Z
LAST-MODIFIED:20200116T162323Z
UID:980-1582138800-1582142400@powelltownship.org
SUMMARY:Planning Commission Meeting
DESCRIPTION:The Powell Township Planning Commission meeting will take place on February 19th\, 2020 at 6:30 pm at the Township Hall. 
URL:https://powelltownship.org/event/township-board-meeting-3/
END:VEVENT
BEGIN:VEVENT
DTSTART;TZID=America/New_York:20200220T180000
DTEND;TZID=America/New_York:20200220T190000
DTSTAMP:20260421T204437
CREATED:20200220T141019Z
LAST-MODIFIED:20200220T141022Z
UID:1074-1582221600-1582225200@powelltownship.org
SUMMARY:Parks and Recreation Special Meeting
DESCRIPTION:Parks and Recreation will be having a special meeting on 02.20.2020 at 6:00pm at the Township Hall. 
URL:https://powelltownship.org/event/parks-and-recreation-special-meeting/
END:VEVENT
BEGIN:VEVENT
DTSTART;TZID=America/New_York:20200225T100000
DTEND;TZID=America/New_York:20200225T120000
DTSTAMP:20260421T204437
CREATED:20191219T152954Z
LAST-MODIFIED:20191219T152957Z
UID:946-1582624800-1582632000@powelltownship.org
SUMMARY:Public Accuracy Test
DESCRIPTION:The Powell Township Clerks Office will be preforming a public accuracy test at the Powell Township Hall on Tuesday\, February 25th\, 2020 at 10:00 am. 
URL:https://powelltownship.org/event/public-accuracy-test-2/
END:VEVENT
BEGIN:VEVENT
DTSTART;TZID=America/New_York:20200225T160000
DTEND;TZID=America/New_York:20200225T170000
DTSTAMP:20260421T204437
CREATED:20200220T171029Z
LAST-MODIFIED:20200220T171031Z
UID:1076-1582646400-1582650000@powelltownship.org
SUMMARY:Sanitation Meeting
DESCRIPTION:There will be a sanitation meeting on February 25th\, 2020 at 4:00pm at the Powell Township Hall. 
URL:https://powelltownship.org/event/sanitation-meeting/
END:VEVENT
BEGIN:VEVENT
DTSTART;TZID=America/New_York:20200227T190000
DTEND;TZID=America/New_York:20200227T200000
DTSTAMP:20260421T204437
CREATED:20200116T163311Z
LAST-MODIFIED:20200116T163314Z
UID:988-1582830000-1582833600@powelltownship.org
SUMMARY:Fire Department Meeting
DESCRIPTION:The Powell Township Fire Department meeting will take place on February 27th\, 2020 @ 7:00 pm at the Big Bay Fire Hall. 
URL:https://powelltownship.org/event/fire-department-meeting-3/
END:VEVENT
END:VCALENDAR