BEGIN:VCALENDAR
VERSION:2.0
PRODID:-//Powell Township - ECPv6.15.15//NONSGML v1.0//EN
CALSCALE:GREGORIAN
METHOD:PUBLISH
X-WR-CALNAME:Powell Township
X-ORIGINAL-URL:https://powelltownship.org
X-WR-CALDESC:Events for Powell Township
REFRESH-INTERVAL;VALUE=DURATION:PT1H
X-Robots-Tag:noindex
X-PUBLISHED-TTL:PT1H
BEGIN:VTIMEZONE
TZID:America/New_York
BEGIN:DAYLIGHT
TZOFFSETFROM:-0500
TZOFFSETTO:-0400
TZNAME:EDT
DTSTART:20190310T070000
END:DAYLIGHT
BEGIN:STANDARD
TZOFFSETFROM:-0400
TZOFFSETTO:-0500
TZNAME:EST
DTSTART:20191103T060000
END:STANDARD
BEGIN:DAYLIGHT
TZOFFSETFROM:-0500
TZOFFSETTO:-0400
TZNAME:EDT
DTSTART:20200308T070000
END:DAYLIGHT
BEGIN:STANDARD
TZOFFSETFROM:-0400
TZOFFSETTO:-0500
TZNAME:EST
DTSTART:20201101T060000
END:STANDARD
BEGIN:DAYLIGHT
TZOFFSETFROM:-0500
TZOFFSETTO:-0400
TZNAME:EDT
DTSTART:20210314T070000
END:DAYLIGHT
BEGIN:STANDARD
TZOFFSETFROM:-0400
TZOFFSETTO:-0500
TZNAME:EST
DTSTART:20211107T060000
END:STANDARD
END:VTIMEZONE
BEGIN:VEVENT
DTSTART;TZID=America/New_York:20200507T183000
DTEND;TZID=America/New_York:20200507T193000
DTSTAMP:20260421T125241
CREATED:20200222T160220Z
LAST-MODIFIED:20200507T125748Z
UID:1096-1588876200-1588879800@powelltownship.org
SUMMARY:Ambulance Meeting Cancelled
DESCRIPTION:The Ambulance meeting at the Big Bay EMS Hall on May 7th\, 2020 at 6:30pm has been cancelled
URL:https://powelltownship.org/event/ambulance-meeting-2/
END:VEVENT
BEGIN:VEVENT
DTSTART;TZID=America/New_York:20200512T183000
DTEND;TZID=America/New_York:20200512T193000
DTSTAMP:20260421T125241
CREATED:20200222T160358Z
LAST-MODIFIED:20200508T131145Z
UID:1098-1589308200-1589311800@powelltownship.org
SUMMARY:Parks and Recreation Meeting
DESCRIPTION:The Powell Township Parks & Recreation  meeting will take place  at 6:30pm using zoom.com \nTopic: P Township Parks and Recreation May Meeting\nTime: May 12\, 2020 06:30 PM Eastern Time (US and Canada)\n \nJoin Zoom Meeting\nhttps://us02web.zoom.us/j/86121335673?pwd=WGxBYys5TUJsZjVIZDFvZEEwRjhVUT09\n \nMeeting ID: 861 2133 5673\nPassword: 339315\nOne tap mobile\n+13017158592\,\,86121335673#\,\,1#\,339315# US (Germantown)\n+13126266799\,\,86121335673#\,\,1#\,339315# US (Chicago)\n \nDial by your location\n        +1 301 715 8592 US (Germantown)\n        +1 312 626 6799 US (Chicago)\n        +1 929 205 6099 US (New York)\n        +1 253 215 8782 US (Tacoma)\n        +1 346 248 7799 US (Houston)\n        +1 669 900 6833 US (San Jose)\nMeeting ID: 861 2133 5673\nPassword: 339315\nFind your local number: https://us02web.zoom.us/u/kdsUXiAAlq
URL:https://powelltownship.org/event/parks-and-recreation-meeting-4/
END:VEVENT
BEGIN:VEVENT
DTSTART;TZID=America/New_York:20200517T080000
DTEND;TZID=America/New_York:20200523T170000
DTSTAMP:20260421T125241
CREATED:20200210T162140Z
LAST-MODIFIED:20200210T162143Z
UID:1063-1589702400-1590253200@powelltownship.org
SUMMARY:EMS Week
DESCRIPTION:
URL:https://powelltownship.org/event/ems-week/
END:VEVENT
BEGIN:VEVENT
DTSTART;TZID=America/New_York:20200519T190000
DTEND;TZID=America/New_York:20200519T200000
DTSTAMP:20260421T125241
CREATED:20200130T165351Z
LAST-MODIFIED:20200518T202022Z
UID:1051-1589914800-1589918400@powelltownship.org
SUMMARY:Township Board Meeting
DESCRIPTION:May 19th\, 2020 Regular Township Meeting\nThe Regular Powell Township Meeting has NOT been canceled at this date. We will still be having the meeting by conference call available to those who wish to join the meeting from the safety of your home. \nEO 2020-48 (Rescission of EO 2020-15)—In effect through May 13\, the order temporarily changes the Open Meetings Act (OMA) to allow public bodies to conduct their meetings electronically\, while also facilitating public participation. Township boards and commissions subject to OMA can use conference call or video conferencing to continue meeting and conducting business during the coronavirus crisis. On May 7th\, Executive Order 2020-75 extends the previous order allowing public bodies to conduct remote public meetings during the continuing COVID-19 pandemic. The new order expires on June 30\, 2020.  \nPlease call (978) 990-5101 for those without internet or a computer without a webcam/microphone. No pass code is required. All calls but the Board and/or committee will be muted till Public Comment is open. Remember to announce who is speaking before commenting to the board. \nOthers may join through https://join.freeconferencecall.com/powelltownshipboard and create a free account at freeconferencecall.com and join the meeting ID: powelltownshipboard \nThe Following Documents are here for the public to follow along with the meeting (will be updated 5/16/2020): \nPrevious Minutes to be approved \nAgenda  \nBills to Be Paid \nPosted 05/07/2020 8:50 AM\nUpdated 05/14/2020\nSamantha Morin\nPowell Township Clerk
URL:https://powelltownship.org/event/township-board-meeting-8/
END:VEVENT
BEGIN:VEVENT
DTSTART;TZID=America/New_York:20200520T183000
DTEND;TZID=America/New_York:20200520T193000
DTSTAMP:20260421T125241
CREATED:20200222T160115Z
LAST-MODIFIED:20200514T143250Z
UID:1094-1589999400-1590003000@powelltownship.org
SUMMARY:Planning Commission Meeting
DESCRIPTION:May 20th\, 2020 Planning Commission\nThe Regular Powell Township Planning Commission Meeting has NOT been canceled at this date. \nEO 2020-48 (Rescission of EO 2020-15)—In effect through May 13\, the order temporarily changes the Open Meetings Act (OMA) to allow public bodies to conduct their meetings electronically\, while also facilitating public participation. Township boards and commissions subject to OMA can use conference call or video conferencing to continue meeting and conducting business during the coronavirus crisis. On May 7th\, Executive Order 2020-75 extends the previous order allowing public bodies to conduct remote public meetings during the continuing COVID-19 pandemic. The new order expires on June 30\, 2020.  \nWill be using the following Free Conference Call information needed for either phone or computer access for the 05/20/2020 meeting at 6:30pm. \nIf you will be accessing the meeting via computer you will need to create your own Free Conference Call login (it is free). \nDial-in number (US): (978) 990-5015\nAccess code: 3824544#\nOnline meeting ID: powellpc\nJoin the online meeting: https://join.freeconferencecall.com/powellpc \nPosted 05/14/2020 10:19 AM\nSamantha Morin\nPowell Township Clerk
URL:https://powelltownship.org/event/planning-commission-meeting-4/
END:VEVENT
BEGIN:VEVENT
DTSTART;VALUE=DATE:20200525
DTEND;VALUE=DATE:20200526
DTSTAMP:20260421T125241
CREATED:20191216T142421Z
LAST-MODIFIED:20191216T142519Z
UID:909-1590364800-1590451199@powelltownship.org
SUMMARY:Memorial Day- Office Closed
DESCRIPTION:The Powell Township Office is closed  for Memorial Day. 
URL:https://powelltownship.org/event/memorial-day-office-closed/
END:VEVENT
BEGIN:VEVENT
DTSTART;VALUE=DATE:20200525
DTEND;VALUE=DATE:20200526
DTSTAMP:20260421T125241
CREATED:20200504T145731Z
LAST-MODIFIED:20200504T150459Z
UID:1429-1590364800-1590451199@powelltownship.org
SUMMARY:May 25th\, 2020 Memorial Day Service
DESCRIPTION:May 25th\, 2020 Memorial Day Service Cancelled\nThe Memorial Day Service will be cancelled due to Governor order for large gatherings. The Cemetery is open to the public for individuals.  \nPosted 05/04/2020 09:41AM\nSamantha Morin\nPowell Township Clerk
URL:https://powelltownship.org/event/may-25th-2020-memorial-day-service/
END:VEVENT
BEGIN:VEVENT
DTSTART;TZID=America/New_York:20200528T190000
DTEND;TZID=America/New_York:20200528T200000
DTSTAMP:20260421T125241
CREATED:20200222T161823Z
LAST-MODIFIED:20200527T115930Z
UID:1106-1590692400-1590696000@powelltownship.org
SUMMARY:Fire Department Meeting
DESCRIPTION:May 28th\, 2020 Fire Department Meeting 7:00PM\nNot cancelled and not virtual. The Fire Department will be meeting in person like normal at the Fire Hall. Social Distancing and Masks to be worn. The Governor’s ruling for volunteer life services to continue meeting is to keep our volunteers up to training standards and as a team to be answering calls. \nPosted 05/27/2020 7:55am\nSamantha Morin\nPowell Township Clerk
URL:https://powelltownship.org/event/fire-department-meeting-6/
END:VEVENT
END:VCALENDAR