BEGIN:VCALENDAR
VERSION:2.0
PRODID:-//Powell Township - ECPv6.15.15//NONSGML v1.0//EN
CALSCALE:GREGORIAN
METHOD:PUBLISH
X-WR-CALNAME:Powell Township
X-ORIGINAL-URL:https://powelltownship.org
X-WR-CALDESC:Events for Powell Township
REFRESH-INTERVAL;VALUE=DURATION:PT1H
X-Robots-Tag:noindex
X-PUBLISHED-TTL:PT1H
BEGIN:VTIMEZONE
TZID:America/New_York
BEGIN:DAYLIGHT
TZOFFSETFROM:-0500
TZOFFSETTO:-0400
TZNAME:EDT
DTSTART:20190310T070000
END:DAYLIGHT
BEGIN:STANDARD
TZOFFSETFROM:-0400
TZOFFSETTO:-0500
TZNAME:EST
DTSTART:20191103T060000
END:STANDARD
BEGIN:DAYLIGHT
TZOFFSETFROM:-0500
TZOFFSETTO:-0400
TZNAME:EDT
DTSTART:20200308T070000
END:DAYLIGHT
BEGIN:STANDARD
TZOFFSETFROM:-0400
TZOFFSETTO:-0500
TZNAME:EST
DTSTART:20201101T060000
END:STANDARD
BEGIN:DAYLIGHT
TZOFFSETFROM:-0500
TZOFFSETTO:-0400
TZNAME:EDT
DTSTART:20210314T070000
END:DAYLIGHT
BEGIN:STANDARD
TZOFFSETFROM:-0400
TZOFFSETTO:-0500
TZNAME:EST
DTSTART:20211107T060000
END:STANDARD
END:VTIMEZONE
BEGIN:VEVENT
DTSTART;TZID=America/New_York:20200604T183000
DTEND;TZID=America/New_York:20200604T193000
DTSTAMP:20260421T105816
CREATED:20200222T160700Z
LAST-MODIFIED:20200222T161121Z
UID:1102-1591295400-1591299000@powelltownship.org
SUMMARY:Ambulance Meeting
DESCRIPTION:There will be an Ambulance Meeting at the Big Bay Fire Hall on June 4th\, 2020 at 6:30pm. 
URL:https://powelltownship.org/event/ambulance-meeting-3/
END:VEVENT
BEGIN:VEVENT
DTSTART;TZID=America/New_York:20200609T183000
DTEND;TZID=America/New_York:20200609T193000
DTSTAMP:20260421T105816
CREATED:20200222T160805Z
LAST-MODIFIED:20200608T144302Z
UID:1104-1591727400-1591731000@powelltownship.org
SUMMARY:Parks and Recreation Meeting
DESCRIPTION:There will be a Parks and Recreation Meeting held via zoom on June 9th\, 2020 at 6:30pm. \nDial-in number (US): (978) 990-5290 \nAccess code: 8236333# \nInternational dial-in numbers: https://fccdl.in/i/bigbaypathway Online meeting ID: bigbaypathway Join the online meeting: https://join.freeconferencecall.com/bigbaypathway \n  \nFor additional assistance connecting to the meeting text ‘Call Me’ to the Dial-In number above and you will be called into the conference. Message and data rates may apply.
URL:https://powelltownship.org/event/parks-and-recreation-meeting-5/
END:VEVENT
BEGIN:VEVENT
DTSTART;TZID=America/New_York:20200616T130000
DTEND;TZID=America/New_York:20200616T143000
DTSTAMP:20260421T105816
CREATED:20200608T163053Z
LAST-MODIFIED:20200608T163429Z
UID:1579-1592312400-1592317800@powelltownship.org
SUMMARY:Special Board Meeting- Sanitation Department Discussion
DESCRIPTION:There will be a special meeting held online and at the Township Hall on Tuesday June 16th\, 2020 at 1pm \nDial-in number (US): (978) 990-5101 \nAccess code: 558575# \nInternational dial-in numbers: https://fccdl.in/i/powelltownshipboard \nOnline meeting ID: powelltownshipboard \nJoin the online meeting: https://join.freeconferencecall.com/powelltownshipboard \n  \nTopic will include the Sanitation Department \n  \n  \nSamantha Morin \nclerk@powelltownship.org \n906-345-9345 ex. 12 \n06/08/2020 12:21PM
URL:https://powelltownship.org/event/special-board-meeting-sanitation-department-discussion/
END:VEVENT
BEGIN:VEVENT
DTSTART;TZID=America/New_York:20200616T190000
DTEND;TZID=America/New_York:20200616T200000
DTSTAMP:20260421T105816
CREATED:20200222T162235Z
LAST-MODIFIED:20200615T142653Z
UID:1108-1592334000-1592337600@powelltownship.org
SUMMARY:Township Board Meeting
DESCRIPTION:The Regular Powell Township Board Meeting will be held both in person at the Township Hall and virtually using Free Conference Call.  \nThe Township asks those who will be coming into the Hall to please wear a mask. Seating will be arranged 6 feet apart.  \nEO 2020-48 (Rescission of EO 2020-15)—In effect through May 13\, the order temporarily changes the Open Meetings Act (OMA) to allow public bodies to conduct their meetings electronically\, while also facilitating public participation. Township boards and commissions subject to OMA can use conference call or video conferencing to continue meeting and conducting business during the coronavirus crisis. On May 7th\, Executive Order 2020-75 extends the previous order allowing public bodies to conduct remote public meetings during the continuing COVID-19 pandemic. The new order expires on June 30\, 2020.  \nWe will be using the following Free Conference Call information needed for either phone or computer access for the 06/16/2020 meeting at 7:00pm. \nIf you will be accessing the meeting via computer you will need to create your own Free Conference Call login (it is free). \nDial-in number (US): (978) 990-5101 \nAccess code: 558575# \nOnline meeting ID: powelltownshipboard \nJoin the online meeting: https://join.freeconferencecall.com/powelltownshipboard
URL:https://powelltownship.org/event/township-board-meeting-9/
END:VEVENT
BEGIN:VEVENT
DTSTART;TZID=America/New_York:20200617T183000
DTEND;TZID=America/New_York:20200617T193000
DTSTAMP:20260421T105816
CREATED:20200222T160547Z
LAST-MODIFIED:20200615T135028Z
UID:1100-1592418600-1592422200@powelltownship.org
SUMMARY:Planning Commission Meeting
DESCRIPTION:The Regular Powell Township Planning Commission Meeting will be held both in person at the Township Hall and virtually using Free Conference Call.  \nThe Township asks those who will be coming into the Hall to please wear a mask. Seating will be arranged 6 feet apart.  \nEO 2020-48 (Rescission of EO 2020-15)—In effect through May 13\, the order temporarily changes the Open Meetings Act (OMA) to allow public bodies to conduct their meetings electronically\, while also facilitating public participation. Township boards and commissions subject to OMA can use conference call or video conferencing to continue meeting and conducting business during the coronavirus crisis. On May 7th\, Executive Order 2020-75 extends the previous order allowing public bodies to conduct remote public meetings during the continuing COVID-19 pandemic. The new order expires on June 30\, 2020.  \nWe will be using the following Free Conference Call information needed for either phone or computer access for the 06/17/2020 meeting at 6:30pm. \nIf you will be accessing the meeting via computer you will need to create your own Free Conference Call login (it is free). \nDial-in number (US): (978) 990-5015\nAccess code: 3824544#\nOnline meeting ID: powellpc\nJoin the online meeting: https://join.freeconferencecall.com/powellpc
URL:https://powelltownship.org/event/planning-commission-meeting-5/
END:VEVENT
BEGIN:VEVENT
DTSTART;TZID=America/New_York:20200625T190000
DTEND;TZID=America/New_York:20200625T200000
DTSTAMP:20260421T105816
CREATED:20200222T162324Z
LAST-MODIFIED:20200222T162510Z
UID:1110-1593111600-1593115200@powelltownship.org
SUMMARY:Fire Department Meeting
DESCRIPTION:There will be a Fire Department Meeting at the Big Bay Fire Hall on June 25th\, 2020 at 7:00pm. 
URL:https://powelltownship.org/event/fire-department-meeting-7/
END:VEVENT
BEGIN:VEVENT
DTSTART;TZID=America/New_York:20200626T120000
DTEND;TZID=America/New_York:20200626T170000
DTSTAMP:20260421T105816
CREATED:20200625T173633Z
LAST-MODIFIED:20200625T174008Z
UID:1644-1593172800-1593190800@powelltownship.org
SUMMARY:Township- Wide Rummage Sale
DESCRIPTION:There will be a Township-wide rummage sale Friday June 26th\, 2020 from 12p-5p and Saturday June 27th\, 2020 from 9a-3p.  \nFace masks and gloves are recommended. 
URL:https://powelltownship.org/event/township-wide-rummage-sale/
END:VEVENT
BEGIN:VEVENT
DTSTART;TZID=America/New_York:20200627T090000
DTEND;TZID=America/New_York:20200627T150000
DTSTAMP:20260421T105816
CREATED:20200625T173852Z
LAST-MODIFIED:20200625T173855Z
UID:1646-1593248400-1593270000@powelltownship.org
SUMMARY:Township- Wide Rummage Sale
DESCRIPTION:There will be a Township-wide rummage sale Friday June 26th\, 2020 from 12p-5p and Saturday June 27th\, 2020 from 9a-3p.  \nFace masks and gloves are recommended. 
URL:https://powelltownship.org/event/township-wide-rummage-sale-2/
END:VEVENT
END:VCALENDAR