BEGIN:VCALENDAR
VERSION:2.0
PRODID:-//Powell Township - ECPv6.15.15//NONSGML v1.0//EN
CALSCALE:GREGORIAN
METHOD:PUBLISH
X-ORIGINAL-URL:https://powelltownship.org
X-WR-CALDESC:Events for Powell Township
REFRESH-INTERVAL;VALUE=DURATION:PT1H
X-Robots-Tag:noindex
X-PUBLISHED-TTL:PT1H
BEGIN:VTIMEZONE
TZID:America/New_York
BEGIN:DAYLIGHT
TZOFFSETFROM:-0500
TZOFFSETTO:-0400
TZNAME:EDT
DTSTART:20190310T070000
END:DAYLIGHT
BEGIN:STANDARD
TZOFFSETFROM:-0400
TZOFFSETTO:-0500
TZNAME:EST
DTSTART:20191103T060000
END:STANDARD
BEGIN:DAYLIGHT
TZOFFSETFROM:-0500
TZOFFSETTO:-0400
TZNAME:EDT
DTSTART:20200308T070000
END:DAYLIGHT
BEGIN:STANDARD
TZOFFSETFROM:-0400
TZOFFSETTO:-0500
TZNAME:EST
DTSTART:20201101T060000
END:STANDARD
BEGIN:DAYLIGHT
TZOFFSETFROM:-0500
TZOFFSETTO:-0400
TZNAME:EDT
DTSTART:20210314T070000
END:DAYLIGHT
BEGIN:STANDARD
TZOFFSETFROM:-0400
TZOFFSETTO:-0500
TZNAME:EST
DTSTART:20211107T060000
END:STANDARD
END:VTIMEZONE
BEGIN:VEVENT
DTSTART;TZID=America/New_York:20200702T183000
DTEND;TZID=America/New_York:20200702T193000
DTSTAMP:20260421T090716
CREATED:20200222T163906Z
LAST-MODIFIED:20200629T133803Z
UID:1114-1593714600-1593718200@powelltownship.org
SUMMARY:Ambulance Meeting- CANCELLED
DESCRIPTION:The Ambulance Meeting at the Big Bay Fire Hall on July 2nd\, 2020 at 6:30pm has been cancelled.  \nThe Ambulance Meeting has been rescheduled for July 9th\, 2020 at 6:00pm at the Big Bay Fire Hall. 
URL:https://powelltownship.org/event/ambulance-meeting-4/
END:VEVENT
BEGIN:VEVENT
DTSTART;VALUE=DATE:20200704
DTEND;VALUE=DATE:20200705
DTSTAMP:20260421T090716
CREATED:20200521T215402Z
LAST-MODIFIED:20200521T215402Z
UID:1526-1593820800-1593907199@powelltownship.org
SUMMARY:Fourth of July Events CANCELLED
DESCRIPTION:Fourth of July Events and Fire on the Bay Cancellation \n  \nWith a heavy heart the Powell Township Board has cancelled the Fourth of July Celebrations including; \nSoftball Tournaments \nIce Cream and Games \nParade \nAnd July 11th\, 2020 Fire On the Bay \nThese events are cancelled due to large events being cancelled in surrounding areas to protect volunteers and the public from the pandemic. Please continue to be safe with personal celebrations. \n  \nThank you everyone for donations. It is the hope that next year we can have bigger and better fireworks.
URL:https://powelltownship.org/event/fourth-of-july-events-cancelled/
END:VEVENT
BEGIN:VEVENT
DTSTART;TZID=America/New_York:20200704T080000
DTEND;TZID=America/New_York:20200704T120000
DTSTAMP:20260421T090716
CREATED:20200629T140652Z
LAST-MODIFIED:20200629T140700Z
UID:1658-1593849600-1593864000@powelltownship.org
SUMMARY:Transfer Station- Closed
DESCRIPTION:The Powell Township transfer station will be closed Saturday July\, 4th 2020. 
URL:https://powelltownship.org/event/transfer-station-closed/
END:VEVENT
BEGIN:VEVENT
DTSTART;TZID=America/New_York:20200709T180000
DTEND;TZID=America/New_York:20200709T190000
DTSTAMP:20260421T090716
CREATED:20200629T133917Z
LAST-MODIFIED:20201217T195257Z
UID:1650-1594317600-1594321200@powelltownship.org
SUMMARY:Ambulance Department Meeting
DESCRIPTION:The Ambulance Department  Meeting has been re-scheduled for July 9th\, 2020 at 6:00pm at the Big Bay Fire Hall. 
URL:https://powelltownship.org/event/ambulance-meeting-8/
END:VEVENT
BEGIN:VEVENT
DTSTART;TZID=America/New_York:20200711T203000
DTEND;TZID=America/New_York:20200711T223000
DTSTAMP:20260421T090716
CREATED:20200521T215243Z
LAST-MODIFIED:20200521T215447Z
UID:1524-1594499400-1594506600@powelltownship.org
SUMMARY:Fire On the Bay CANCELLED
DESCRIPTION:Fourth of July Events and Fire on the Bay Cancellation \n  \nWith a heavy heart the Powell Township Board has cancelled the Fourth of July Celebrations including; \nSoftball Tournaments \nIce Cream and Games \nParade \nAnd July 11th\, 2020 Fire On the Bay \nThese events are cancelled due to large events being cancelled in surrounding areas to protect volunteers and the public from the pandemic. Please continue to be safe with personal celebrations. \n  \nThank you everyone for donations. It is the hope that next year we can have bigger and better fireworks.
URL:https://powelltownship.org/event/fire-on-the-bay-cancelled/
END:VEVENT
BEGIN:VEVENT
DTSTART;TZID=America/New_York:20200713T183000
DTEND;TZID=America/New_York:20200713T193000
DTSTAMP:20260421T090716
CREATED:20200222T164115Z
LAST-MODIFIED:20210708T140741Z
UID:1116-1594665000-1594668600@powelltownship.org
SUMMARY:Parks and Recreation
DESCRIPTION:Parks & Recreation Meetings \nThe Powell Township Parks & Recreation  meeting will take place  at 6:30pm in person at Township Hall or virtually using zoom.com \n\nTopic: Powell Township Parks and Recreation July Meeting \nTime: Jul 13\, 2020 06:30 PM Eastern Time (US and Canada) \n  \nJoin Zoom Meeting \nhttps://us02web.zoom.us/j/88031707676?pwd=NFFwOGVjbVhva2JnZm8raWNRQndwdz09 \nMeeting ID: 880 3170 7676 \nPassword: 691710 \nOne tap mobile \n+13126266799\,\,88031707676#\,\,\,\,0#\,\,691710# US (Chicago) \n+19292056099\,\,88031707676#\,\,\,\,0#\,\,691710# US (New York) \n  \nDial by your location \n        +1 312 626 6799 US (Chicago) \n        +1 929 205 6099 US (New York) \n        +1 301 715 8592 US (Germantown) \n        +1 346 248 7799 US (Houston) \n        +1 669 900 6833 US (San Jose) \n        +1 253 215 8782 US (Tacoma) \nMeeting ID: 880 3170 7676 \nPassword: 691710 \n\n\nInternational dial-in numbers: https://fccdl.in/i/bigbaypathway Online meeting ID: bigbaypathway Join the online meeting: https://join.freeconferencecall.com/bigbaypathway \nFor additional assistance connecting to the meeting text ‘Call Me’ to the Dial-In number above and you will be called into the conference. Message and data rates may apply.
URL:https://powelltownship.org/event/parks-and-recreation/
LOCATION:Historic Thunder Bay Inn\, 400 Bensinger\, BIG BAY\, MI\, 49808\, United States
END:VEVENT
BEGIN:VEVENT
DTSTART;TZID=America/New_York:20200715T183000
DTEND;TZID=America/New_York:20200715T193000
DTSTAMP:20260421T090716
CREATED:20200222T163759Z
LAST-MODIFIED:20200623T233855Z
UID:1112-1594837800-1594841400@powelltownship.org
SUMMARY:Planning Commission Meeting
DESCRIPTION:The Regular Powell Township Planning Commission Meeting will be held both in person at the Township Hall and virtually using Free Conference Call.  \nThe Township asks those who will be coming into the Hall to please wear a mask. Seating will be arranged 6 feet apart.  \nWe will be using the following Free Conference Call information needed for either phone or computer access for the 07/15/2020 meeting at 6:30pm. \nIf you will be accessing the meeting via computer you will need to create your own Free Conference Call login (it is free). \nDial-in number (US): (978) 990-5015\nAccess code: 3824544#\nOnline meeting ID: powellpc\nJoin the online meeting: https://join.freeconferencecall.com/powellpc
URL:https://powelltownship.org/event/planning-commission-meeting-6/
END:VEVENT
BEGIN:VEVENT
DTSTART;TZID=America/New_York:20200721T100000
DTEND;TZID=America/New_York:20200721T130000
DTSTAMP:20260421T090716
CREATED:20200715T022559Z
LAST-MODIFIED:20200715T022559Z
UID:1683-1595325600-1595336400@powelltownship.org
SUMMARY:Public Accuracy Test
DESCRIPTION:10am Public Accuracy test for Primary Election at Township Hall. For both precincts. Public Accuracy Test
URL:https://powelltownship.org/event/public-accuracy-test-3/
END:VEVENT
BEGIN:VEVENT
DTSTART;TZID=America/New_York:20200721T190000
DTEND;TZID=America/New_York:20200721T200000
DTSTAMP:20260421T090716
CREATED:20200222T164203Z
LAST-MODIFIED:20200623T233702Z
UID:1118-1595358000-1595361600@powelltownship.org
SUMMARY:Township Board Meeting
DESCRIPTION:The Regular Powell Township Board Meeting will be held both in person at the Township Hall and virtually using Free Conference Call.  \nThe Township asks those who will be coming into the Hall to please wear a mask. Seating will be arranged 6 feet apart.  \nWe will be using the following Free Conference Call information needed for either phone or computer access for the 07/21/2020 meeting at 7:00pm. \nIf you will be accessing the meeting via computer you will need to create your own Free Conference Call login (it is free). \nDial-in number (US): (978) 990-5101 \nAccess code: 558575# \nOnline meeting ID: powelltownshipboard \nJoin the online meeting: https://join.freeconferencecall.com/powelltownshipboard
URL:https://powelltownship.org/event/township-board-meeting-10/
END:VEVENT
BEGIN:VEVENT
DTSTART;TZID=America/New_York:20200723T100000
DTEND;TZID=America/New_York:20200723T120000
DTSTAMP:20260421T090716
CREATED:20200723T221236Z
LAST-MODIFIED:20200723T221324Z
UID:1704-1595498400-1595505600@powelltownship.org
SUMMARY:Board of Review
DESCRIPTION:Board of Review meeting 10am 07/23/2020 at township hall
URL:https://powelltownship.org/event/board-of-review-4/
END:VEVENT
BEGIN:VEVENT
DTSTART;TZID=America/New_York:20200730T190000
DTEND;TZID=America/New_York:20200730T200000
DTSTAMP:20260421T090716
CREATED:20200222T164252Z
LAST-MODIFIED:20210729T175908Z
UID:1120-1596135600-1596139200@powelltownship.org
SUMMARY:Fire Department Meeting -Cancelled-
DESCRIPTION:The Fire Department meeting scheduled for  July 30th\, 2020 at 7:00pm has been rescheduled for August 5th\, 6pm at the Big Bay Fire Hall
URL:https://powelltownship.org/event/fire-department-meeting-8/
END:VEVENT
END:VCALENDAR