BEGIN:VCALENDAR
VERSION:2.0
PRODID:-//Powell Township - ECPv6.15.15//NONSGML v1.0//EN
CALSCALE:GREGORIAN
METHOD:PUBLISH
X-ORIGINAL-URL:https://powelltownship.org
X-WR-CALDESC:Events for Powell Township
REFRESH-INTERVAL;VALUE=DURATION:PT1H
X-Robots-Tag:noindex
X-PUBLISHED-TTL:PT1H
BEGIN:VTIMEZONE
TZID:America/New_York
BEGIN:DAYLIGHT
TZOFFSETFROM:-0500
TZOFFSETTO:-0400
TZNAME:EDT
DTSTART:20190310T070000
END:DAYLIGHT
BEGIN:STANDARD
TZOFFSETFROM:-0400
TZOFFSETTO:-0500
TZNAME:EST
DTSTART:20191103T060000
END:STANDARD
BEGIN:DAYLIGHT
TZOFFSETFROM:-0500
TZOFFSETTO:-0400
TZNAME:EDT
DTSTART:20200308T070000
END:DAYLIGHT
BEGIN:STANDARD
TZOFFSETFROM:-0400
TZOFFSETTO:-0500
TZNAME:EST
DTSTART:20201101T060000
END:STANDARD
BEGIN:DAYLIGHT
TZOFFSETFROM:-0500
TZOFFSETTO:-0400
TZNAME:EDT
DTSTART:20210314T070000
END:DAYLIGHT
BEGIN:STANDARD
TZOFFSETFROM:-0400
TZOFFSETTO:-0500
TZNAME:EST
DTSTART:20211107T060000
END:STANDARD
END:VTIMEZONE
BEGIN:VEVENT
DTSTART;TZID=America/New_York:20200801T090000
DTEND;TZID=America/New_York:20200801T170000
DTSTAMP:20260421T072122
CREATED:20200804T140720Z
LAST-MODIFIED:20200804T140749Z
UID:1717-1596272400-1596301200@powelltownship.org
SUMMARY:Special Clerk Hours: Last day for Mail out AV ballots
DESCRIPTION:Clerk’s Office will be open from 9am to 5pm \nOpen for Election Registration\, AV Ballots requests to be mailed\, receiving of AV ballots
URL:https://powelltownship.org/event/special-clerk-hours-last-day-for-mail-out-av-ballots/
END:VEVENT
BEGIN:VEVENT
DTSTART;TZID=America/New_York:20200804T070000
DTEND;TZID=America/New_York:20200804T200000
DTSTAMP:20260421T072122
CREATED:20200804T140354Z
LAST-MODIFIED:20200804T140359Z
UID:1713-1596524400-1596571200@powelltownship.org
SUMMARY:Election Day
DESCRIPTION:Primary Election. \nPrecinct 1 is at Township Hall \nPrecinct 2 is at Halfway Fire Hall \nPolls are open 7am to 8pm
URL:https://powelltownship.org/event/election-day-2/
END:VEVENT
BEGIN:VEVENT
DTSTART;TZID=America/New_York:20200806T183000
DTEND;TZID=America/New_York:20200806T193000
DTSTAMP:20260421T072122
CREATED:20200222T165021Z
LAST-MODIFIED:20200222T165025Z
UID:1124-1596738600-1596742200@powelltownship.org
SUMMARY:Ambulance Department
DESCRIPTION:There will be an Ambulance Department Meeting at the Big Bay Fire Hall on August 6th\, 2020 at 6:30pm. 
URL:https://powelltownship.org/event/ambulance-department/
END:VEVENT
BEGIN:VEVENT
DTSTART;TZID=America/New_York:20200811T183000
DTEND;TZID=America/New_York:20200811T193000
DTSTAMP:20260421T072122
CREATED:20200222T165138Z
LAST-MODIFIED:20200222T165141Z
UID:1126-1597170600-1597174200@powelltownship.org
SUMMARY:Parks and Recreation Meeting
DESCRIPTION:There is a Parks and Recreation Meeting at the Township Hall on August 11th\, 2020 at 6:30pm.
URL:https://powelltownship.org/event/parks-and-recreation-meeting-6/
END:VEVENT
BEGIN:VEVENT
DTSTART;TZID=America/New_York:20200818T190000
DTEND;TZID=America/New_York:20200818T200000
DTSTAMP:20260421T072122
CREATED:20200222T165311Z
LAST-MODIFIED:20200222T165314Z
UID:1128-1597777200-1597780800@powelltownship.org
SUMMARY:Township Board Meeting
DESCRIPTION:There is a Township Board Meeting at the Township Hall on August 18th\, 2020 at 7:00pm. 
URL:https://powelltownship.org/event/township-board-meeting-11/
END:VEVENT
BEGIN:VEVENT
DTSTART;TZID=America/New_York:20200819T183000
DTEND;TZID=America/New_York:20200819T193000
DTSTAMP:20260421T072122
CREATED:20200222T164623Z
LAST-MODIFIED:20200222T164626Z
UID:1122-1597861800-1597865400@powelltownship.org
SUMMARY:Planning Commission Meeting
DESCRIPTION:There is a Planning Commission Meeting at the Township Hall on August 19th\, 2020 at 6:30pm.
URL:https://powelltownship.org/event/planning-commission-meeting-7/
END:VEVENT
BEGIN:VEVENT
DTSTART;TZID=America/New_York:20200825T180000
DTEND;TZID=America/New_York:20200825T190000
DTSTAMP:20260421T072122
CREATED:20200820T163502Z
LAST-MODIFIED:20200820T163506Z
UID:1753-1598378400-1598382000@powelltownship.org
SUMMARY:Special Board Meeting
DESCRIPTION:There will be a special board meeting held on 08.25.2020 at 6:00pm at the Township Hall.  \nVirtual attendance is offered as well with the following login information: \nDial-in number (US): (978) 990-5101 \nAccess code: 558575# \nInternational dial-in numbers: https://fccdl.in/i/powelltownshipboard \nOnline meeting ID: powelltownshipboard \nJoin the online meeting: https://join.freeconferencecall.com/powelltownshipboard \nIf you plan to attend in person please wear a mask and practice social distancing. 
URL:https://powelltownship.org/event/special-board-meeting/
END:VEVENT
BEGIN:VEVENT
DTSTART;TZID=America/New_York:20200826T080000
DTEND;TZID=America/New_York:20200826T170000
DTSTAMP:20260421T072122
CREATED:20200826T141856Z
LAST-MODIFIED:20200826T150931Z
UID:1779-1598428800-1598461200@powelltownship.org
SUMMARY:Special Treasurer Hours for Sanitation Department
DESCRIPTION:The Treasurer will be available for the Sanitation Department for Saturday September 5th\, 2020 from 8am – 12pm \nStarting  on September 1st\, 2020 Township Residents will be charged for large items.
URL:https://powelltownship.org/event/special-treasurer-hours-for-sanitation-department-2/
END:VEVENT
BEGIN:VEVENT
DTSTART;TZID=America/New_York:20200827T190000
DTEND;TZID=America/New_York:20200827T200000
DTSTAMP:20260421T072122
CREATED:20200222T165414Z
LAST-MODIFIED:20200222T165417Z
UID:1130-1598554800-1598558400@powelltownship.org
SUMMARY:Fire Department Meeting
DESCRIPTION:There is a Fire Department Meeting at the Big Bay Fire Hall on August 27th\, 2020 at 7:00pm. 
URL:https://powelltownship.org/event/fire-department-meeting-9/
END:VEVENT
END:VCALENDAR