BEGIN:VCALENDAR
VERSION:2.0
PRODID:-//Powell Township - ECPv6.15.15//NONSGML v1.0//EN
CALSCALE:GREGORIAN
METHOD:PUBLISH
X-ORIGINAL-URL:https://powelltownship.org
X-WR-CALDESC:Events for Powell Township
REFRESH-INTERVAL;VALUE=DURATION:PT1H
X-Robots-Tag:noindex
X-PUBLISHED-TTL:PT1H
BEGIN:VTIMEZONE
TZID:America/New_York
BEGIN:DAYLIGHT
TZOFFSETFROM:-0500
TZOFFSETTO:-0400
TZNAME:EDT
DTSTART:20240310T070000
END:DAYLIGHT
BEGIN:STANDARD
TZOFFSETFROM:-0400
TZOFFSETTO:-0500
TZNAME:EST
DTSTART:20241103T060000
END:STANDARD
BEGIN:DAYLIGHT
TZOFFSETFROM:-0500
TZOFFSETTO:-0400
TZNAME:EDT
DTSTART:20250309T070000
END:DAYLIGHT
BEGIN:STANDARD
TZOFFSETFROM:-0400
TZOFFSETTO:-0500
TZNAME:EST
DTSTART:20251102T060000
END:STANDARD
BEGIN:DAYLIGHT
TZOFFSETFROM:-0500
TZOFFSETTO:-0400
TZNAME:EDT
DTSTART:20260308T070000
END:DAYLIGHT
BEGIN:STANDARD
TZOFFSETFROM:-0400
TZOFFSETTO:-0500
TZNAME:EST
DTSTART:20261101T060000
END:STANDARD
END:VTIMEZONE
BEGIN:VEVENT
DTSTART;TZID=America/New_York:20250102T180000
DTEND;TZID=America/New_York:20250102T190000
DTSTAMP:20260419T111838
CREATED:20211223T183543Z
LAST-MODIFIED:20241219T185133Z
UID:3304-1735840800-1735844400@powelltownship.org
SUMMARY:Fire Department Meeting
DESCRIPTION:The Fire Department will hold a meeting 6:00pm at the Big Bay Fire Hall
URL:https://powelltownship.org/event/fire-department-meeting-27/
LOCATION:Big Bay EMS/Fire Hall\, 103 Bensinger\, Big Bay\, MI\, 49808\, United States
END:VEVENT
BEGIN:VEVENT
DTSTART;TZID=America/New_York:20250105T190000
DTEND;TZID=America/New_York:20250105T200000
DTSTAMP:20260419T111838
CREATED:20211223T184824Z
LAST-MODIFIED:20241219T185346Z
UID:3330-1736103600-1736107200@powelltownship.org
SUMMARY:Ambulance Department Meeting
DESCRIPTION:`The Ambulance Department of Powell Township will be holding a meeting at 7:00pm at the Big Bay Fire Hall
URL:https://powelltownship.org/event/ambulance-department-meeting-15/
LOCATION:Big Bay EMS/Fire Hall\, 103 Bensinger\, Big Bay\, MI\, 49808\, United States
END:VEVENT
BEGIN:VEVENT
DTSTART;TZID=America/New_York:20250114T183000
DTEND;TZID=America/New_York:20250114T193000
DTSTAMP:20260419T111838
CREATED:20241209T201117Z
LAST-MODIFIED:20241219T185505Z
UID:7769-1736879400-1736883000@powelltownship.org
SUMMARY:Parks and Recreation Meeting
DESCRIPTION:
URL:https://powelltownship.org/event/parks-and-recreation-meeting-13/
LOCATION:Historic Thunder Bay Inn\, 400 Bensinger\, BIG BAY\, MI\, 49808\, United States
END:VEVENT
BEGIN:VEVENT
DTSTART;TZID=America/New_York:20250115T170000
DTEND;TZID=America/New_York:20250115T190000
DTSTAMP:20260419T111838
CREATED:20250110T184451Z
LAST-MODIFIED:20250110T184451Z
UID:8079-1736960400-1736967600@powelltownship.org
SUMMARY:Food Bank Open at Bill Dionne Fire Hall
DESCRIPTION:Powell Township Food Bank Now Open \n\nWith donated funds and volunteers\, the Powell Township Emergency Management Dept. will be reopening the food bank at the Bill Dionne Fire Hall at Halfway starting Wednesday\, November 6.\nNon-perishable food\, paper goods\, hygiene and cleaning supplies are available for anyone in need.  The food bank will be open from 5:00 pm to 7:00 pm on the first and third Wednesday each month through March. \nContinuing the food bank through the summer will be determined in March.  \nCall Emergency Manager Kim Bourgeois at 906-362-7275\, or the township office at 906-345-9345\, for more information.\n\n  \nThe Food Bank is open the following dates from 5:00 – 7:00 P.M.: \n\nWednesday\, November 6\, 5:00 – 7:00 P.M.\nWednesday\, November 20\, 5:00 – 7:00 P.M.\nWednesday\, December 4\, 5:00 – 7:00 P.M.\nWednesday\, December 18\, 5:00 – 7:00 P.M.\nWednesday\, January 1\, 5:00 – 7:00 P.M.\nWednesday\, January 15\, 5:00 – 7:00 P.M.\nWednesday\, February 5\, 5:00 – 7:00 P.M.\nWednesday\, February 19\, 5:00 – 7:00 P.M.\nWednesday\, March 5\, 5:00 – 7:00 P.M.\nWednesday\, March 19\, 5:00 – 7:00 P.M.\n\n  \nFood Bank Donations \n\nYou can make a monetary donation to the township office\, make checks out to Powell Township and “food bank donation” in the memo line. A great holiday idea.\nFood/supply donations can be dropped off at the Powell Township office during regular office hours (Mon & Thu 9-12) or dropped off directly to the food bank during operating hours.\nQuestions?  Call Kim Bourgeois at 906-362-7275.
URL:https://powelltownship.org/event/food-bank-open-at-bill-dionne-fire-hall/
LOCATION:Bill Dionne (Halfway) Fire Hall\, Bill Dionne Fire Station\, MARQUETTE\, MI\, 49855\, United States
END:VEVENT
BEGIN:VEVENT
DTSTART;TZID=America/New_York:20250115T190000
DTEND;TZID=America/New_York:20250115T200000
DTSTAMP:20260419T111838
CREATED:20241209T202206Z
LAST-MODIFIED:20241219T185647Z
UID:7776-1736967600-1736971200@powelltownship.org
SUMMARY:Planning Commission Meeting
DESCRIPTION:
URL:https://powelltownship.org/event/planning-commission-meeting-15/
LOCATION:Historic Thunder Bay Inn\, 400 Bensinger\, BIG BAY\, MI\, 49808\, United States
END:VEVENT
BEGIN:VEVENT
DTSTART;TZID=America/New_York:20250116T183000
DTEND;TZID=America/New_York:20250116T200000
DTSTAMP:20260419T111838
CREATED:20241219T185851Z
LAST-MODIFIED:20241219T185851Z
UID:7872-1737052200-1737057600@powelltownship.org
SUMMARY:BBSC Monthly Meeting
DESCRIPTION:
URL:https://powelltownship.org/event/bbsc-monthly-meeting/
LOCATION:Historic Thunder Bay Inn\, 400 Bensinger\, BIG BAY\, MI\, 49808\, United States
END:VEVENT
BEGIN:VEVENT
DTSTART;TZID=America/New_York:20250121T190000
DTEND;TZID=America/New_York:20250121T200000
DTSTAMP:20260419T111838
CREATED:20211223T173150Z
LAST-MODIFIED:20241219T185958Z
UID:3244-1737486000-1737489600@powelltownship.org
SUMMARY:Township Board Meeting
DESCRIPTION:The Powell Township Board will meet at 7:00pm and will take place at the Powell Township Hall\, 101 Bensinger\, Big Bay MI 49808
URL:https://powelltownship.org/event/township-board-meeting-29/
LOCATION:Historic Thunder Bay Inn\, 400 Bensinger\, BIG BAY\, MI\, 49808\, United States
END:VEVENT
BEGIN:VEVENT
DTSTART;TZID=America/New_York:20250130T180000
DTEND;TZID=America/New_York:20250130T200000
DTSTAMP:20260419T111838
CREATED:20241219T190140Z
LAST-MODIFIED:20250110T182614Z
UID:7874-1738260000-1738267200@powelltownship.org
SUMMARY:Fire Department Meeting
DESCRIPTION:
URL:https://powelltownship.org/event/fire-department-meeting-28/
LOCATION:Big Bay EMS/Fire Hall\, 103 Bensinger\, Big Bay\, MI\, 49808\, United States
END:VEVENT
BEGIN:VEVENT
DTSTART;TZID=America/New_York:20250130T183000
DTEND;TZID=America/New_York:20250130T200000
DTSTAMP:20260419T111838
CREATED:20250123T203430Z
LAST-MODIFIED:20250123T203430Z
UID:8251-1738261800-1738267200@powelltownship.org
SUMMARY:Big Bay Stewardship Council (BBSC) Meeting
DESCRIPTION:This BBSC council meeting will be SPICED UP with local vendors and their goods\, pizza\, and a raffle\, among other things. One meeting discussion item will be the “Discover Big Bay” concept and potential revision\, and the BBSC hopes for high resident participation.
URL:https://powelltownship.org/event/big-bay-stewardship-council-bbsc-meeting/
LOCATION:Historic Thunder Bay Inn\, 400 Bensinger\, BIG BAY\, MI\, 49808\, United States
ORGANIZER;CN="BBSC":MAILTO:coordinator@bigbaystewardship.org
END:VEVENT
END:VCALENDAR