BEGIN:VCALENDAR
VERSION:2.0
PRODID:-//Powell Township - ECPv6.15.15//NONSGML v1.0//EN
CALSCALE:GREGORIAN
METHOD:PUBLISH
X-WR-CALNAME:Powell Township
X-ORIGINAL-URL:https://powelltownship.org
X-WR-CALDESC:Events for Powell Township
REFRESH-INTERVAL;VALUE=DURATION:PT1H
X-Robots-Tag:noindex
X-PUBLISHED-TTL:PT1H
BEGIN:VTIMEZONE
TZID:America/New_York
BEGIN:DAYLIGHT
TZOFFSETFROM:-0500
TZOFFSETTO:-0400
TZNAME:EDT
DTSTART:20240310T070000
END:DAYLIGHT
BEGIN:STANDARD
TZOFFSETFROM:-0400
TZOFFSETTO:-0500
TZNAME:EST
DTSTART:20241103T060000
END:STANDARD
BEGIN:DAYLIGHT
TZOFFSETFROM:-0500
TZOFFSETTO:-0400
TZNAME:EDT
DTSTART:20250309T070000
END:DAYLIGHT
BEGIN:STANDARD
TZOFFSETFROM:-0400
TZOFFSETTO:-0500
TZNAME:EST
DTSTART:20251102T060000
END:STANDARD
BEGIN:DAYLIGHT
TZOFFSETFROM:-0500
TZOFFSETTO:-0400
TZNAME:EDT
DTSTART:20260308T070000
END:DAYLIGHT
BEGIN:STANDARD
TZOFFSETFROM:-0400
TZOFFSETTO:-0500
TZNAME:EST
DTSTART:20261101T060000
END:STANDARD
END:VTIMEZONE
BEGIN:VEVENT
DTSTART;TZID=America/New_York:20250302T190000
DTEND;TZID=America/New_York:20250302T200000
DTSTAMP:20260419T162944
CREATED:20250206T205311Z
LAST-MODIFIED:20250206T205314Z
UID:8464-1740942000-1740945600@powelltownship.org
SUMMARY:Ambulance Department Meeting
DESCRIPTION:
URL:https://powelltownship.org/event/ambulance-department-meeting-17/
LOCATION:Big Bay EMS/Fire Hall\, 103 Bensinger\, Big Bay\, MI\, 49808\, United States
END:VEVENT
BEGIN:VEVENT
DTSTART;TZID=America/New_York:20250303T180000
DTEND;TZID=America/New_York:20250303T190000
DTSTAMP:20260419T162944
CREATED:20250220T154741Z
LAST-MODIFIED:20250227T190457Z
UID:8576-1741024800-1741028400@powelltownship.org
SUMMARY:Second Powell Township Budget Workshop - OPEN TO THE PUBLIC
DESCRIPTION:NOTICE – Powell Township Budget Workshops and Budget Public Hearing – OPEN TO THE PUBLIC\nPowell Township Hall\, 101 Bensinger St.\, Big Bay\, Michigan\, 49808\nDates: \n\nFirst Budget Workshop: Tuesday\, February 25\, 2025\, 6:00 P.M.\nSecond Budget Workshop: Monday\, March 3\, 2025\, 6:00 P.M.\nBudget Public Hearing: Thursday\, March 13\, 2025\, 6:00 P.M.\nThe property tax millage rate proposed to be levied to support the proposed budget will be a subject of this hearing.\n\nOVERALL AGENDA: \n\nConduct Budget Workshops\nConduct Budget Public Hearing\nApprove Budget
URL:https://powelltownship.org/event/second-powell-township-budget-workshop-open-to-the-public/
LOCATION:Historic Thunder Bay Inn\, 400 Bensinger\, BIG BAY\, MI\, 49808\, United States
END:VEVENT
BEGIN:VEVENT
DTSTART;TZID=America/New_York:20250304T150000
DTEND;TZID=America/New_York:20250304T170000
DTSTAMP:20260419T162944
CREATED:20250206T144732Z
LAST-MODIFIED:20250206T150147Z
UID:8436-1741100400-1741107600@powelltownship.org
SUMMARY:March Board of Review (MBOR) - Organizational Meeting
DESCRIPTION:March Board of Review (MBOR) Meetings: \n\nOrganizational Meeting: Tuesday\, March 4\, 2025\, 3:00 P.M.\nFirst MBOR Meeting: Wednesday\, March 12\, 2025\, 3:00 – 9:00 P.M.\nSecond MBOR Meeting: Friday\, March 14\, 2025\, 9:00 A.M. – 3:00 P.M.\n\nPowell Township Hall\nAll meetings are at Powell Township Hall\, 101 Bensinger Street\, Big Bay\, Michigan\, 49808. \nFor questions or concerns\, contact: \nDylan Jurasin\, MCAO \nPowell Township Assessor \n906-361-6787 \n 
URL:https://powelltownship.org/event/march-board-of-review-mbor-organizational-meeting/
LOCATION:Historic Thunder Bay Inn\, 400 Bensinger\, BIG BAY\, MI\, 49808\, United States
ORGANIZER;CN="Assessor":MAILTO:powellassessor@gmail.com
END:VEVENT
BEGIN:VEVENT
DTSTART;TZID=America/New_York:20250305T170000
DTEND;TZID=America/New_York:20250305T190000
DTSTAMP:20260419T162944
CREATED:20250110T184906Z
LAST-MODIFIED:20250110T185238Z
UID:8086-1741194000-1741201200@powelltownship.org
SUMMARY:Food Bank Open at Bill Dionne Fire Hall
DESCRIPTION:Powell Township Food Bank Now Open \n\nWith donated funds and volunteers\, the Powell Township Emergency Management Dept. will be reopening the food bank at the Bill Dionne Fire Hall at Halfway starting Wednesday\, November 6.\nNon-perishable food\, paper goods\, hygiene and cleaning supplies are available for anyone in need.  The food bank will be open from 5:00 pm to 7:00 pm on the first and third Wednesday each month through March. \nContinuing the food bank through the summer will be determined in March.  \nCall Emergency Manager Kim Bourgeois at 906-362-7275\, or the township office at 906-345-9345\, for more information.\n\n  \nThe Food Bank is open the following dates from 5:00 – 7:00 P.M.: \n\nWednesday\, November 6\, 5:00 – 7:00 P.M.\nWednesday\, November 20\, 5:00 – 7:00 P.M.\nWednesday\, December 4\, 5:00 – 7:00 P.M.\nWednesday\, December 18\, 5:00 – 7:00 P.M.\nWednesday\, January 1\, 5:00 – 7:00 P.M.\nWednesday\, January 15\, 5:00 – 7:00 P.M.\nWednesday\, February 5\, 5:00 – 7:00 P.M.\nWednesday\, February 19\, 5:00 – 7:00 P.M.\nWednesday\, March 5\, 5:00 – 7:00 P.M.\nWednesday\, March 19\, 5:00 – 7:00 P.M.\n\n  \nFood Bank Donations \n\nYou can make a monetary donation to the township office\, make checks out to Powell Township and “food bank donation” in the memo line. A great holiday idea.\nFood/supply donations can be dropped off at the Powell Township office during regular office hours (Mon & Thu 9-12) or dropped off directly to the food bank during operating hours.\nQuestions?  Call Kim Bourgeois at 906-362-7275.
URL:https://powelltownship.org/event/food-bank-open-at-bill-dionne-fire-hall-4/
LOCATION:Bill Dionne (Halfway) Fire Hall\, Bill Dionne Fire Station\, MARQUETTE\, MI\, 49855\, United States
END:VEVENT
BEGIN:VEVENT
DTSTART;TZID=America/New_York:20250311T183000
DTEND;TZID=America/New_York:20250311T193000
DTSTAMP:20260419T162944
CREATED:20250213T191651Z
LAST-MODIFIED:20250213T191708Z
UID:8516-1741717800-1741721400@powelltownship.org
SUMMARY:Parks and Recreation Committee Meeting
DESCRIPTION:
URL:https://powelltownship.org/event/parks-and-recreation-committee-meeting/
LOCATION:Historic Thunder Bay Inn\, 400 Bensinger\, BIG BAY\, MI\, 49808\, United States
END:VEVENT
BEGIN:VEVENT
DTSTART;TZID=America/New_York:20250312T150000
DTEND;TZID=America/New_York:20250312T210000
DTSTAMP:20260419T162944
CREATED:20250206T145522Z
LAST-MODIFIED:20250206T145526Z
UID:8443-1741791600-1741813200@powelltownship.org
SUMMARY:First March Board of Review (MBOR) Meeting
DESCRIPTION:March Board of Review (MBOR) Meetings: \n\nOrganizational Meeting: Tuesday\, March 4\, 2025\, 3:00 P.M.\nFirst MBOR Meeting: Wednesday\, March 12\, 2025\, 3:00 – 9:00 P.M.\nSecond MBOR Meeting: Friday\, March 14\, 2025\, 9:00 A.M. – 3:00 P.M.\n\nPowell Township Hall\nAll meetings are at Powell Township Hall\, 101 Bensinger Street\, Big Bay\, Michigan\, 49808. \nFor questions or concerns\, contact: \nDylan Jurasin\, MCAO \nPowell Township Assessor \n906-361-6787
URL:https://powelltownship.org/event/first-march-board-of-review-mbor-meeting/
LOCATION:Historic Thunder Bay Inn\, 400 Bensinger\, BIG BAY\, MI\, 49808\, United States
ORGANIZER;CN="Assessor":MAILTO:powellassessor@gmail.com
END:VEVENT
BEGIN:VEVENT
DTSTART;TZID=America/New_York:20250313T180000
DTEND;TZID=America/New_York:20250313T190000
DTSTAMP:20260419T162944
CREATED:20250220T154944Z
LAST-MODIFIED:20250310T185800Z
UID:8580-1741888800-1741892400@powelltownship.org
SUMMARY:Powell Township Budget Public Hearing - OPEN TO THE PUBLIC
DESCRIPTION:NOTICE – Powell Township Budget Workshops and Budget Public Hearing – OPEN TO THE PUBLIC\nPowell Township Hall\, 101 Bensinger St.\, Big Bay\, Michigan\, 49808\nDates: \n\nFirst Budget Workshop: Tuesday\, February 25\, 2025\, 6:00 P.M.\nSecond Budget Workshop: Monday\, March 3\, 2025\, 6:00 P.M.\nBudget Public Hearing: Thursday\, March 13\, 2025\, 6:00 P.M.\nThe property tax millage rate proposed to be levied to support the proposed budget will be a subject of this hearing.\n\nOVERALL AGENDA: \n\nConduct Budget Workshops\nConduct Budget Public Hearing\nApprove Budget\n\nView the Draft (as of 27 Feb 2025) Fiscal Year 2025-2026 Budget here. Hardcopies are currently available in the Town Hall and Township front office area. 
URL:https://powelltownship.org/event/powell-township-budget-public-hearing-open-to-the-public/
LOCATION:Historic Thunder Bay Inn\, 400 Bensinger\, BIG BAY\, MI\, 49808\, United States
END:VEVENT
BEGIN:VEVENT
DTSTART;TZID=America/New_York:20250313T190000
DTEND;TZID=America/New_York:20250313T200000
DTSTAMP:20260419T162944
CREATED:20250220T154347Z
LAST-MODIFIED:20250220T154516Z
UID:8571-1741892400-1741896000@powelltownship.org
SUMMARY:Committee of the Whole Meeting - OPEN TO THE PUBLIC
DESCRIPTION:NOTICE – Powell Township Committee of the Whole Meeting – OPEN TO THE PUBLIC\nMarch 13\, 2025\, 7:00 P.M. \nPowell Township Hall\, 101 Bensinger St.\, Big Bay\, Michigan\, 49808\nThis meeting is open to the public. Board members and Trustees will also be present. The meeting purpose is to discuss items on the below agenda. No decisions requiring Board voting will be made. A committee of the whole is a meeting where multiple committees meet together\, sometimes including the entire board. This type of meeting allows for more interaction between committees and board members.  \nAGENDA: \n\nDiscuss the March 18\, 2025\, Powell Township Board Meeting Agenda and items\nDiscuss the Powell Township budget prior to its expected approval at the March 18\, 2025\, Powell Township Board Meeting
URL:https://powelltownship.org/event/committee-of-the-whole-meeting-open-to-the-public/
LOCATION:Historic Thunder Bay Inn\, 400 Bensinger\, BIG BAY\, MI\, 49808\, United States
END:VEVENT
BEGIN:VEVENT
DTSTART;TZID=America/New_York:20250314T090000
DTEND;TZID=America/New_York:20250314T150000
DTSTAMP:20260419T162944
CREATED:20250206T150059Z
LAST-MODIFIED:20250206T150102Z
UID:8447-1741942800-1741964400@powelltownship.org
SUMMARY:Second March Board of Review (MBOR) Meeting
DESCRIPTION:March Board of Review (MBOR) Meetings: \n\nOrganizational Meeting: Tuesday\, March 4\, 2025\, 3:00 P.M.\nFirst MBOR Meeting: Wednesday\, March 12\, 2025\, 3:00 – 9:00 P.M.\nSecond MBOR Meeting: Friday\, March 14\, 2025\, 9:00 A.M. – 3:00 P.M.\n\nPowell Township Hall\nAll meetings are at Powell Township Hall\, 101 Bensinger Street\, Big Bay\, Michigan\, 49808. \nFor questions or concerns\, contact: \nDylan Jurasin\, MCAO \nPowell Township Assessor \n906-361-6787
URL:https://powelltownship.org/event/second-march-board-of-review-mbor-meeting/
LOCATION:Historic Thunder Bay Inn\, 400 Bensinger\, BIG BAY\, MI\, 49808\, United States
ORGANIZER;CN="Assessor":MAILTO:powellassessor@gmail.com
END:VEVENT
BEGIN:VEVENT
DTSTART;TZID=America/New_York:20250315T090000
DTEND;TZID=America/New_York:20250315T103000
DTSTAMP:20260419T162944
CREATED:20250313T234431Z
LAST-MODIFIED:20250313T235032Z
UID:8895-1742029200-1742034600@powelltownship.org
SUMMARY:PARKS AND RECREATION COMMITTEE - EMERGENCY MEETING
DESCRIPTION:NOTICE – Parks and Recreation Emergency Meeting – 15 MARCH 2025\, 9:00 A.M.\nParks and Recreation will have an emergency meeting this Saturday\, 15 March 2025\, 0900-1030\, in the Powell Township Hall.   \nAGENDA: Vote on Central Upper Peninsula Planning and Development (CUPPAD) completing the 5-Year Recreation Plan.
URL:https://powelltownship.org/event/parks-and-recreation-committee-emergency-meeting/
LOCATION:Historic Thunder Bay Inn\, 400 Bensinger\, BIG BAY\, MI\, 49808\, United States
END:VEVENT
BEGIN:VEVENT
DTSTART;TZID=America/New_York:20250318T190000
DTEND;TZID=America/New_York:20250318T200000
DTSTAMP:20260419T162944
CREATED:20250213T191855Z
LAST-MODIFIED:20250213T191900Z
UID:8520-1742324400-1742328000@powelltownship.org
SUMMARY:Powell Township Board Meeting
DESCRIPTION:The following documents are available here for the public the day of the meeting. Hardcopies are available at the Hall the day of the meeting: \n\nAgenda (with available Agenda item attachments)\nPrevious Meeting’s Draft Minutes (for review and approval)\nBills to be Paid\nRevenue and Expenditure Report\nTreasurer’s Report\nBudget Amendments
URL:https://powelltownship.org/event/powell-township-board-meeting-3/
LOCATION:Historic Thunder Bay Inn\, 400 Bensinger\, BIG BAY\, MI\, 49808\, United States
END:VEVENT
BEGIN:VEVENT
DTSTART;TZID=America/New_York:20250319T170000
DTEND;TZID=America/New_York:20250319T190000
DTSTAMP:20260419T162944
CREATED:20250110T185333Z
LAST-MODIFIED:20250110T185718Z
UID:8088-1742403600-1742410800@powelltownship.org
SUMMARY:Food Bank Open at Bill Dionne Fire Hall
DESCRIPTION:Powell Township Food Bank Now Open \n\nWith donated funds and volunteers\, the Powell Township Emergency Management Dept. will be reopening the food bank at the Bill Dionne Fire Hall at Halfway starting Wednesday\, November 6.\nNon-perishable food\, paper goods\, hygiene and cleaning supplies are available for anyone in need.  The food bank will be open from 5:00 pm to 7:00 pm on the first and third Wednesday each month through March. \nContinuing the food bank through the summer will be determined in March.  \nCall Emergency Manager Kim Bourgeois at 906-362-7275\, or the township office at 906-345-9345\, for more information.\n\n  \nThe Food Bank is open the following dates from 5:00 – 7:00 P.M.: \n\nWednesday\, November 6\, 5:00 – 7:00 P.M.\nWednesday\, November 20\, 5:00 – 7:00 P.M.\nWednesday\, December 4\, 5:00 – 7:00 P.M.\nWednesday\, December 18\, 5:00 – 7:00 P.M.\nWednesday\, January 1\, 5:00 – 7:00 P.M.\nWednesday\, January 15\, 5:00 – 7:00 P.M.\nWednesday\, February 5\, 5:00 – 7:00 P.M.\nWednesday\, February 19\, 5:00 – 7:00 P.M.\nWednesday\, March 5\, 5:00 – 7:00 P.M.\nWednesday\, March 19\, 5:00 – 7:00 P.M.\n\n  \nFood Bank Donations \n\nYou can make a monetary donation to the township office\, make checks out to Powell Township and “food bank donation” in the memo line. A great holiday idea.\nFood/supply donations can be dropped off at the Powell Township office during regular office hours (Mon & Thu 9-12) or dropped off directly to the food bank during operating hours.\nQuestions?  Call Kim Bourgeois at 906-362-7275.
URL:https://powelltownship.org/event/food-bank-open-at-bill-dionne-fire-hall-5/
LOCATION:Bill Dionne (Halfway) Fire Hall\, Bill Dionne Fire Station\, MARQUETTE\, MI\, 49855\, United States
END:VEVENT
BEGIN:VEVENT
DTSTART;TZID=America/New_York:20250319T190000
DTEND;TZID=America/New_York:20250319T200000
DTSTAMP:20260419T162944
CREATED:20250110T183626Z
LAST-MODIFIED:20250110T183626Z
UID:8074-1742410800-1742414400@powelltownship.org
SUMMARY:Planning Commission Meeting
DESCRIPTION:
URL:https://powelltownship.org/event/planning-commission-meeting-18/
LOCATION:Historic Thunder Bay Inn\, 400 Bensinger\, BIG BAY\, MI\, 49808\, United States
END:VEVENT
BEGIN:VEVENT
DTSTART;TZID=America/New_York:20250327T180000
DTEND;TZID=America/New_York:20250327T200000
DTSTAMP:20260419T162944
CREATED:20250228T183946Z
LAST-MODIFIED:20250228T183954Z
UID:8730-1743098400-1743105600@powelltownship.org
SUMMARY:Fire Department Meeting
DESCRIPTION:
URL:https://powelltownship.org/event/fire-department-meeting-30/
LOCATION:Big Bay EMS/Fire Hall\, 103 Bensinger\, Big Bay\, MI\, 49808\, United States
END:VEVENT
BEGIN:VEVENT
DTSTART;TZID=America/New_York:20250327T183000
DTEND;TZID=America/New_York:20250327T200000
DTSTAMP:20260419T162944
CREATED:20250213T192448Z
LAST-MODIFIED:20250213T192451Z
UID:8525-1743100200-1743105600@powelltownship.org
SUMMARY:Big Bay Stewardship Council (BBSC) Meeting
DESCRIPTION:
URL:https://powelltownship.org/event/big-bay-stewardship-council-bbsc-meeting-3/
LOCATION:Historic Thunder Bay Inn\, 400 Bensinger\, BIG BAY\, MI\, 49808\, United States
ORGANIZER;CN="BBSC":MAILTO:coordinator@bigbaystewardship.org
END:VEVENT
END:VCALENDAR