BEGIN:VCALENDAR
VERSION:2.0
PRODID:-//Powell Township - ECPv6.15.15//NONSGML v1.0//EN
CALSCALE:GREGORIAN
METHOD:PUBLISH
X-WR-CALNAME:Powell Township
X-ORIGINAL-URL:https://powelltownship.org
X-WR-CALDESC:Events for Powell Township
REFRESH-INTERVAL;VALUE=DURATION:PT1H
X-Robots-Tag:noindex
X-PUBLISHED-TTL:PT1H
BEGIN:VTIMEZONE
TZID:America/New_York
BEGIN:DAYLIGHT
TZOFFSETFROM:-0500
TZOFFSETTO:-0400
TZNAME:EDT
DTSTART:20240310T070000
END:DAYLIGHT
BEGIN:STANDARD
TZOFFSETFROM:-0400
TZOFFSETTO:-0500
TZNAME:EST
DTSTART:20241103T060000
END:STANDARD
BEGIN:DAYLIGHT
TZOFFSETFROM:-0500
TZOFFSETTO:-0400
TZNAME:EDT
DTSTART:20250309T070000
END:DAYLIGHT
BEGIN:STANDARD
TZOFFSETFROM:-0400
TZOFFSETTO:-0500
TZNAME:EST
DTSTART:20251102T060000
END:STANDARD
BEGIN:DAYLIGHT
TZOFFSETFROM:-0500
TZOFFSETTO:-0400
TZNAME:EDT
DTSTART:20260308T070000
END:DAYLIGHT
BEGIN:STANDARD
TZOFFSETFROM:-0400
TZOFFSETTO:-0500
TZNAME:EST
DTSTART:20261101T060000
END:STANDARD
END:VTIMEZONE
BEGIN:VEVENT
DTSTART;TZID=America/New_York:20250406T190000
DTEND;TZID=America/New_York:20250406T200000
DTSTAMP:20260419T190112
CREATED:20250303T161834Z
LAST-MODIFIED:20250303T161956Z
UID:8760-1743966000-1743969600@powelltownship.org
SUMMARY:Ambulance Department Meeting
DESCRIPTION:
URL:https://powelltownship.org/event/ambulance-department-meeting-19/
LOCATION:Big Bay EMS/Fire Hall\, 103 Bensinger\, Big Bay\, MI\, 49808\, United States
END:VEVENT
BEGIN:VEVENT
DTSTART;TZID=America/New_York:20250408T183000
DTEND;TZID=America/New_York:20250408T200000
DTSTAMP:20260419T190112
CREATED:20250303T161046Z
LAST-MODIFIED:20250303T161058Z
UID:8753-1744137000-1744142400@powelltownship.org
SUMMARY:Parks and Recreation Committee Meeting
DESCRIPTION:
URL:https://powelltownship.org/event/parks-and-recreation-committee-meeting-2/
LOCATION:Historic Thunder Bay Inn\, 400 Bensinger\, BIG BAY\, MI\, 49808\, United States
END:VEVENT
BEGIN:VEVENT
DTSTART;TZID=America/New_York:20250409T170000
DTEND;TZID=America/New_York:20250409T190000
DTSTAMP:20260419T190112
CREATED:20250320T151644Z
LAST-MODIFIED:20250320T151803Z
UID:9000-1744218000-1744225200@powelltownship.org
SUMMARY:Food Bank Open at Bill Dionne / Halfway Fire Hall
DESCRIPTION:Powell Township Food Bank Now Open \n\nWith donated funds and volunteers\, the Powell Township Emergency Management Dept. will be reopening the food bank at the Bill Dionne Fire Hall at Halfway starting Wednesday\, November 6.\nNon-perishable food\, paper goods\, hygiene and cleaning supplies are available for anyone in need.  The food bank will be open from 5:00 pm to 7:00 pm on the first and third Wednesday each month through March. \nContinuing the food bank through the summer will be determined in March.  \nCall Emergency Manager Kim Bourgeois at 906-362-7275\, or the township office at 906-345-9345\, for more information.\n\n  \nThe Food Bank is open the following EXTENDED DATES IN APRIL from 5:00 – 7:00 P.M.: \n\nWednesday\, April 9\, 5:00 – 7:00 P.M.\nWednesday\, April 23\, 5:00 – 7:00 P.M.\n\n  \nFood Bank Donations \n\nYou can make a monetary donation to the township office\, make checks out to Powell Township and “food bank donation” in the memo line. A great holiday idea.\nFood/supply donations can be dropped off at the Powell Township office during regular office hours (Mon & Thu 9-12) or dropped off directly to the food bank during operating hours.\nQuestions?  Call Kim Bourgeois at 906-362-7275.
URL:https://powelltownship.org/event/food-bank-open-at-bill-dionne-halfway-fire-hall/
LOCATION:Bill Dionne (Halfway) Fire Hall\, Bill Dionne Fire Station\, MARQUETTE\, MI\, 49855\, United States
END:VEVENT
BEGIN:VEVENT
DTSTART;TZID=America/New_York:20250412T110000
DTEND;TZID=America/New_York:20250412T130000
DTSTAMP:20260419T190112
CREATED:20250224T204425Z
LAST-MODIFIED:20250327T175844Z
UID:8660-1744455600-1744462800@powelltownship.org
SUMMARY:Annual Easter Egg Hunt
DESCRIPTION:Powell Township’s annual Easter Egg Hunt begins promptly at 11:00 A.M. at Powell Township Hall. Treats will be served. 
URL:https://powelltownship.org/event/annual-easter-egg-hunt-save-the-date/
LOCATION:Historic Thunder Bay Inn\, 400 Bensinger\, BIG BAY\, MI\, 49808\, United States
END:VEVENT
BEGIN:VEVENT
DTSTART;TZID=America/New_York:20250414T180000
DTEND;TZID=America/New_York:20250414T190000
DTSTAMP:20260419T190112
CREATED:20250314T002931Z
LAST-MODIFIED:20250407T170052Z
UID:8909-1744653600-1744657200@powelltownship.org
SUMMARY:POSTPONED TO 14 APR - Committee of the Whole Meeting - OPEN TO THE PUBLIC
DESCRIPTION:NOTICE – Powell Township Committee of the Whole Meeting – OPEN TO THE PUBLIC\nPOSTPONED to April 14\, 2025\, 6:00 P.M. \nPowell Township Hall\, 101 Bensinger St.\, Big Bay\, Michigan\, 49808\nThis meeting is open to the public. Board members and Trustees will also be present. The meeting purpose is to discuss items on the below agenda. No decisions requiring Board voting will be made. A committee of the whole is a meeting where multiple committees meet together\, sometimes including the entire board. This type of meeting allows for more interaction between committees and board members. Committee of the Whole Meetings will USUALLY occur on the second Thursday of each month to discuss the upcoming Board Meeting’s Agenda; HOWEVER\, THE APRIL MEETING WAS POSTPONED DUE TO SCHEDULING ISSUES. \nAGENDA: \n\nDiscuss the April 15\, 2025\, Powell Township Board Meeting Agenda and items
URL:https://powelltownship.org/event/powell-township-committee-of-the-whole-meeting-open-to-the-public-2/
END:VEVENT
BEGIN:VEVENT
DTSTART;TZID=America/New_York:20250415T190000
DTEND;TZID=America/New_York:20250415T200000
DTSTAMP:20260419T190113
CREATED:20250303T162133Z
LAST-MODIFIED:20250303T162228Z
UID:8762-1744743600-1744747200@powelltownship.org
SUMMARY:Powell Township Board Meeting
DESCRIPTION:Powell Township Board Meeting\nApril 15\, 2025\, 7:00 P.M. (third Tuesday each month)\nPowell Township Hall\, 101 Bensinger St.\, Big Bay\, Michigan\, 49808\nThe following documents are available here for the public the day of the meeting. Hardcopies are available at the Hall the day of the meeting: \n\nAgenda (with available Agenda item attachments)\nPrevious Meeting’s Draft Minutes (for review and approval)\nBills to be Paid\nRevenue and Expenditure Report\nTreasurer’s Report\nBudget Amendments\n\n  \nTo attend remotely\, two options are available: \n\nJoin Zoom Meeting (to use computer audio and video):\nhttps://us06web.zoom.us/j/87042567856\nMeeting ID: 870 4256 7856\nPasscode: BigBay\nCall In (to use phone for audio only):\nPhone: 1-689-278-1000\nMeeting ID: 870 4256 7856\nPasscode: 863563
URL:https://powelltownship.org/event/powell-township-board-meeting-4/
LOCATION:Historic Thunder Bay Inn\, 400 Bensinger\, BIG BAY\, MI\, 49808\, United States
END:VEVENT
BEGIN:VEVENT
DTSTART;TZID=America/New_York:20250418T183000
DTEND;TZID=America/New_York:20250418T193000
DTSTAMP:20260419T190113
CREATED:20250417T161046Z
LAST-MODIFIED:20250417T183203Z
UID:9247-1745001000-1745004600@powelltownship.org
SUMMARY:NOTICE - SPECIAL BOARD MEETING - OPEN TO PUBLIC
DESCRIPTION:NOTICE – Powell Township Special Board Meeting – 18 APRIL\nApril 18\, 2025\, 6:30 P.M. \nPowell Township Hall\, 101 Bensinger St.\, Big Bay\, Michigan\, 49808\nAGENDA: \n\nApprove 2025 “Resolution to Approve Renewal of Operating Millage Proposal” (confirmed agenda item)\nThe draft Resolution wording is available under 18 April Board Meeting Minutes here.\nSafe Routes to School Grant presentation (tentative agenda item).\nApprove re-application for Safe Routes to School Grant (tentative agenda item).\nBuildings and Grounds: Approve $319.99 payment from equipment funds for 3 Ton Off-Road Jack for maintenance (confirmed agenda item).\n\n  \nTo attend remotely\, two options are available: \n\nJoin Zoom Meeting (to use computer audio and video):\nhttps://us06web.zoom.us/j/87042567856\nMeeting ID: 870 4256 7856\nPasscode: BigBay\nCall In (to use phone for audio only):\nPhone: 1-689-278-1000\nMeeting ID: 870 4256 7856\nPasscode: 863563
URL:https://powelltownship.org/event/notice-special-board-meeting-open-to-public/
LOCATION:Historic Thunder Bay Inn\, 400 Bensinger\, BIG BAY\, MI\, 49808\, United States
END:VEVENT
BEGIN:VEVENT
DTSTART;TZID=America/New_York:20250423T170000
DTEND;TZID=America/New_York:20250423T190000
DTSTAMP:20260419T190113
CREATED:20250320T151919Z
LAST-MODIFIED:20250320T151957Z
UID:9005-1745427600-1745434800@powelltownship.org
SUMMARY:Food Bank Open at Bill Dionne / Halfway Fire Hall
DESCRIPTION:Powell Township Food Bank Now Open \n\nWith donated funds and volunteers\, the Powell Township Emergency Management Dept. will be reopening the food bank at the Bill Dionne Fire Hall at Halfway starting Wednesday\, November 6.\nNon-perishable food\, paper goods\, hygiene and cleaning supplies are available for anyone in need.  The food bank will be open from 5:00 pm to 7:00 pm on the first and third Wednesday each month through March. \nContinuing the food bank through the summer will be determined in March.  \nCall Emergency Manager Kim Bourgeois at 906-362-7275\, or the township office at 906-345-9345\, for more information.\n\n  \nThe Food Bank is open the following EXTENDED DATES IN APRIL from 5:00 – 7:00 P.M.: \n\nWednesday\, April 9\, 5:00 – 7:00 P.M.\nWednesday\, April 23\, 5:00 – 7:00 P.M.\n\n  \nFood Bank Donations \n\nYou can make a monetary donation to the township office\, make checks out to Powell Township and “food bank donation” in the memo line. A great holiday idea.\nFood/supply donations can be dropped off at the Powell Township office during regular office hours (Mon & Thu 9-12) or dropped off directly to the food bank during operating hours.\nQuestions?  Call Kim Bourgeois at 906-362-7275.
URL:https://powelltownship.org/event/food-bank-open-at-bill-dionne-halfway-fire-hall-2/
LOCATION:Bill Dionne (Halfway) Fire Hall\, Bill Dionne Fire Station\, MARQUETTE\, MI\, 49855\, United States
END:VEVENT
BEGIN:VEVENT
DTSTART;TZID=America/New_York:20250424T180000
DTEND;TZID=America/New_York:20250424T200000
DTSTAMP:20260419T190113
CREATED:20250303T162655Z
LAST-MODIFIED:20250303T163100Z
UID:8766-1745517600-1745524800@powelltownship.org
SUMMARY:Fire Department Meeting
DESCRIPTION:
URL:https://powelltownship.org/event/fire-department-meeting-31/
LOCATION:Big Bay EMS/Fire Hall\, 103 Bensinger\, Big Bay\, MI\, 49808\, United States
END:VEVENT
BEGIN:VEVENT
DTSTART;TZID=America/New_York:20250424T183000
DTEND;TZID=America/New_York:20250424T200000
DTSTAMP:20260419T190113
CREATED:20250328T175146Z
LAST-MODIFIED:20250328T175149Z
UID:9098-1745519400-1745524800@powelltownship.org
SUMMARY:Big Bay Stewardship Council (BBSC) Meeting
DESCRIPTION:
URL:https://powelltownship.org/event/big-bay-stewardship-council-bbsc-meeting-4/
LOCATION:Historic Thunder Bay Inn\, 400 Bensinger\, BIG BAY\, MI\, 49808\, United States
ORGANIZER;CN="BBSC":MAILTO:coordinator@bigbaystewardship.org
END:VEVENT
END:VCALENDAR