BEGIN:VCALENDAR
VERSION:2.0
PRODID:-//Powell Township - ECPv6.15.15//NONSGML v1.0//EN
CALSCALE:GREGORIAN
METHOD:PUBLISH
X-ORIGINAL-URL:https://powelltownship.org
X-WR-CALDESC:Events for Powell Township
REFRESH-INTERVAL;VALUE=DURATION:PT1H
X-Robots-Tag:noindex
X-PUBLISHED-TTL:PT1H
BEGIN:VTIMEZONE
TZID:America/New_York
BEGIN:DAYLIGHT
TZOFFSETFROM:-0500
TZOFFSETTO:-0400
TZNAME:EDT
DTSTART:20240310T070000
END:DAYLIGHT
BEGIN:STANDARD
TZOFFSETFROM:-0400
TZOFFSETTO:-0500
TZNAME:EST
DTSTART:20241103T060000
END:STANDARD
BEGIN:DAYLIGHT
TZOFFSETFROM:-0500
TZOFFSETTO:-0400
TZNAME:EDT
DTSTART:20250309T070000
END:DAYLIGHT
BEGIN:STANDARD
TZOFFSETFROM:-0400
TZOFFSETTO:-0500
TZNAME:EST
DTSTART:20251102T060000
END:STANDARD
BEGIN:DAYLIGHT
TZOFFSETFROM:-0500
TZOFFSETTO:-0400
TZNAME:EDT
DTSTART:20260308T070000
END:DAYLIGHT
BEGIN:STANDARD
TZOFFSETFROM:-0400
TZOFFSETTO:-0500
TZNAME:EST
DTSTART:20261101T060000
END:STANDARD
END:VTIMEZONE
BEGIN:VEVENT
DTSTART;TZID=America/New_York:20250503T080000
DTEND;TZID=America/New_York:20250503T120000
DTSTAMP:20260419T214013
CREATED:20250224T204628Z
LAST-MODIFIED:20250327T181135Z
UID:8663-1746259200-1746273600@powelltownship.org
SUMMARY:Annual Dash for Trash
DESCRIPTION:The annual Big Bay Dash for Trash Community Cleanup is May 3\, 2025\, 8 A.M. – 12 P.M. and the meeting point is Draver Park. A POTLUCK AND LIVE MUSIC FOLLOWS.   \nView the flyer here. \n 
URL:https://powelltownship.org/event/annual-dash-for-trash-save-the-date/
LOCATION:Draver Park\, 506 HOFFMAN ST\, BIG BAY\, MI\, 49808\, United States
ORGANIZER;CN="BBSC":MAILTO:coordinator@bigbaystewardship.org
END:VEVENT
BEGIN:VEVENT
DTSTART;TZID=America/New_York:20250503T120000
DTEND;TZID=America/New_York:20250503T150000
DTSTAMP:20260419T214013
CREATED:20250327T181424Z
LAST-MODIFIED:20250327T181441Z
UID:9071-1746273600-1746284400@powelltownship.org
SUMMARY:Post-Dash for Trash Potluck and Live Music
DESCRIPTION:A 12 P.M. POTLUCK AND LIVE MUSIC FOLLOWS The annual Big Bay Dash for Trash Community Cleanup.  \nView the flyer here.
URL:https://powelltownship.org/event/post-dash-for-trash-potluck-and-live-music/
LOCATION:Draver Park\, 506 HOFFMAN ST\, BIG BAY\, MI\, 49808\, United States
ORGANIZER;CN="BBSC":MAILTO:coordinator@bigbaystewardship.org
END:VEVENT
BEGIN:VEVENT
DTSTART;TZID=America/New_York:20250504T190000
DTEND;TZID=America/New_York:20250504T200000
DTSTAMP:20260419T214013
CREATED:20250407T142327Z
LAST-MODIFIED:20250407T142331Z
UID:9144-1746385200-1746388800@powelltownship.org
SUMMARY:Ambulance Department Meeting
DESCRIPTION:Ambulance Department Meeting \nMay 4\, 2025\, 7:00 P.M. (first Sunday each month)\nPowell Township Fire Hall\, 103 Bensinger St.\, Big Bay\, Michigan\, 49808
URL:https://powelltownship.org/event/ambulance-department-meeting-18/
LOCATION:Big Bay EMS/Fire Hall\, 103 Bensinger\, Big Bay\, MI\, 49808\, United States
END:VEVENT
BEGIN:VEVENT
DTSTART;TZID=America/New_York:20250507T170000
DTEND;TZID=America/New_York:20250507T190000
DTSTAMP:20260419T214013
CREATED:20250421T162330Z
LAST-MODIFIED:20250421T162333Z
UID:9318-1746637200-1746644400@powelltownship.org
SUMMARY:FOOD BANK OPEN AT BILL DIONNE (HALFWAY) FIRE HALL
DESCRIPTION:NOTICE – FOOD BANK OPEN APRIL 23\, MAY 7\, MAY 21\, 5 – 7 P.M. AT BILL DIONNE (HALFWAY) FIRE HALL\nPowell Township Food Bank Open EXTENDED DATES IN APRIL AND MAY \n\nWith donated funds and volunteers\, the Powell Township Emergency Management Department will open the Bill Dionne Fire Hall at Halfway Food Bank starting November 6. Continuing it through summer will be determined in May.\nThe Food Bank will open 5:00 to 7:00 P.M. on two Wednesdays per month. \nNon-perishable food\, paper goods\, hygiene and cleaning supplies are available for anyone in need.   \nCall Emergency Manager Kim Bourgeois at 906-362-7275\, or the township office at 906-345-9345\, for more information.\n\n  \nThe Food Bank is open the following EXTENDED DATES IN APRIL & MAY: \n\nWednesday\, April 23\, 5:00 – 7:00 P.M.\nWednesday\, May 7\, 5:00 – 7:00 P.M.\nWednesday\, May 21\, 5:00 – 7:00 P.M.\n\n  \nFood Bank Donations \n\nYou can make a monetary donation to the township office\, make checks out to Powell Township and “food bank donation” in the memo line. A great holiday idea.\nFood/supply donations can be dropped off at the Powell Township office during regular office hours (Mon & Thu 9-12) or dropped off directly to the food bank during operating hours.\nQuestions?  Call Kim Bourgeois at 906-362-7275.
URL:https://powelltownship.org/event/food-bank-open-at-bill-dionne-halfway-fire-hall-3/
LOCATION:Bill Dionne (Halfway) Fire Hall\, Bill Dionne Fire Station\, MARQUETTE\, MI\, 49855\, United States
END:VEVENT
BEGIN:VEVENT
DTSTART;TZID=America/New_York:20250512T120000
DTEND;TZID=America/New_York:20250512T130000
DTSTAMP:20260419T214013
CREATED:20250415T210738Z
LAST-MODIFIED:20250511T025858Z
UID:9217-1747051200-1747054800@powelltownship.org
SUMMARY:Powell Township Committee of the Whole Meeting - OPEN TO THE PUBLIC
DESCRIPTION:NOTICE – Powell Township Committee of the Whole Meeting – OPEN TO THE PUBLIC\nMay 12\, 2025\, 12:00 P.M. \nPowell Township Hall\, 101 Bensinger St.\, Big Bay\, Michigan\, 49808\nThis meeting is open to the public. Board members and Trustees will also be present. The meeting purpose is to discuss items on the below agenda. No decisions requiring Board voting will be made. A committee of the whole is a meeting where multiple committees meet together\, sometimes including the entire board. This type of meeting allows for more interaction between committees and board members. Due to schedule conflicts\, this meeting is on Monday\, May 12\, but Committee of the Whole Meetings usually occur on the second Thursday of each month to discuss the upcoming Board Meeting’s Agenda. \nAGENDA: \n\nDiscuss the draft May 20\, 2025\, Powell Township Board Meeting Agenda\nDiscuss potential additions to the Agenda
URL:https://powelltownship.org/event/powell-township-committee-of-the-whole-meeting-open-to-the-public-3/
LOCATION:Historic Thunder Bay Inn\, 400 Bensinger\, BIG BAY\, MI\, 49808\, United States
END:VEVENT
BEGIN:VEVENT
DTSTART;TZID=America/New_York:20250513T183000
DTEND;TZID=America/New_York:20250513T200000
DTSTAMP:20260419T214013
CREATED:20250410T151533Z
LAST-MODIFIED:20250410T151537Z
UID:9155-1747161000-1747166400@powelltownship.org
SUMMARY:Parks and Recreation Committee Meeting
DESCRIPTION:Parks and Recreation Meeting\nMay 13\, 2025\, 6:30 P.M. (second Tuesday each month)\nPowell Township Hall\, 101 Bensinger St.\, Big Bay\, Michigan\, 49808\nParks and Recreation Committee members: \n\nHeidi Shatz – Chair\nCoty Sorby – Vice Chair\nDarlene Turner – Treasurer\nKelli Santilli – Secretary\nKelly Cain – Member\nLinda Ludwig – Member\nSven Gonstead – Member
URL:https://powelltownship.org/event/parks-and-recreation-committee-meeting-3/
LOCATION:Historic Thunder Bay Inn\, 400 Bensinger\, BIG BAY\, MI\, 49808\, United States
END:VEVENT
BEGIN:VEVENT
DTSTART;TZID=America/New_York:20250517T080000
DTEND;TZID=America/New_York:20250517T130000
DTSTAMP:20260419T214013
CREATED:20250224T204748Z
LAST-MODIFIED:20250421T164338Z
UID:8666-1747468800-1747486800@powelltownship.org
SUMMARY:Annual Big Bay Relay - Marquette to Big Bay
DESCRIPTION:BIG BAY RELAY | Facebook \nBig Bay Relay – Run Signup site
URL:https://powelltownship.org/event/annual-big-bay-relay-save-the-date/
LOCATION:Marquette\, Michigan
END:VEVENT
BEGIN:VEVENT
DTSTART;VALUE=DATE:20250520
DTEND;VALUE=DATE:20250521
DTSTAMP:20260419T214013
CREATED:20250310T165532Z
LAST-MODIFIED:20250328T175848Z
UID:8851-1747699200-1747785599@powelltownship.org
SUMMARY:Dam Inspection
DESCRIPTION: SCHEDULED – Dam Inspection and Q&A Following – 20 May 2025 \nThe dam between Lake Independence and the Iron River is scheduled for inspection on May 20\, 2025. The inspector will stay for the 7:00 P.M. Monthly Board Meeting following the inspection to answer questions from the public. 
URL:https://powelltownship.org/event/dam-inspection/
END:VEVENT
BEGIN:VEVENT
DTSTART;TZID=America/New_York:20250520T190000
DTEND;TZID=America/New_York:20250520T200000
DTSTAMP:20260419T214013
CREATED:20250410T152121Z
LAST-MODIFIED:20250410T152124Z
UID:9159-1747767600-1747771200@powelltownship.org
SUMMARY:Powell Township Board Meeting
DESCRIPTION:Powell Township Board Meeting\nMay 20\, 2025\, 7:00 P.M. (third Tuesday each month)\nPowell Township Hall\, 101 Bensinger St.\, Big Bay\, Michigan\, 49808\nThe following documents are available here for the public the day of the meeting. Hardcopies are available at the Hall the day of the meeting: \n\nAgenda (with available Agenda item attachments)\nPrevious Meeting’s Draft Minutes (for review and approval)\nBills to be Paid\nRevenue and Expenditure Report\nTreasurer’s Report\nBudget Amendments\n\n  \nTo attend remotely\, two options are available: \n\nJoin Zoom Meeting (to use computer audio and video):\nhttps://us06web.zoom.us/j/87042567856\nMeeting ID: 870 4256 7856\nPasscode: BigBay\nCall In (to use phone for audio only):\nPhone: 1-689-278-1000\nMeeting ID: 870 4256 7856\nPasscode: 863563
URL:https://powelltownship.org/event/powell-township-board-meeting-5/
LOCATION:Historic Thunder Bay Inn\, 400 Bensinger\, BIG BAY\, MI\, 49808\, United States
END:VEVENT
BEGIN:VEVENT
DTSTART;TZID=America/New_York:20250521T170000
DTEND;TZID=America/New_York:20250521T190000
DTSTAMP:20260419T214013
CREATED:20250421T162512Z
LAST-MODIFIED:20250421T162515Z
UID:9323-1747846800-1747854000@powelltownship.org
SUMMARY:FOOD BANK OPEN AT BILL DIONNE (HALFWAY) FIRE HALL
DESCRIPTION:NOTICE – FOOD BANK OPEN APRIL 23\, MAY 7\, MAY 21\, 5 – 7 P.M. AT BILL DIONNE (HALFWAY) FIRE HALL\nPowell Township Food Bank Open EXTENDED DATES IN APRIL AND MAY \n\nWith donated funds and volunteers\, the Powell Township Emergency Management Department will open the Bill Dionne Fire Hall at Halfway Food Bank starting November 6. Continuing it through summer will be determined in May.\nThe Food Bank will open 5:00 to 7:00 P.M. on two Wednesdays per month. \nNon-perishable food\, paper goods\, hygiene and cleaning supplies are available for anyone in need.   \nCall Emergency Manager Kim Bourgeois at 906-362-7275\, or the township office at 906-345-9345\, for more information.\n\n  \nThe Food Bank is open the following EXTENDED DATES IN APRIL & MAY: \n\nWednesday\, April 23\, 5:00 – 7:00 P.M.\nWednesday\, May 7\, 5:00 – 7:00 P.M.\nWednesday\, May 21\, 5:00 – 7:00 P.M.\n\n  \nFood Bank Donations \n\nYou can make a monetary donation to the township office\, make checks out to Powell Township and “food bank donation” in the memo line. A great holiday idea.\nFood/supply donations can be dropped off at the Powell Township office during regular office hours (Mon & Thu 9-12) or dropped off directly to the food bank during operating hours.\nQuestions?  Call Kim Bourgeois at 906-362-7275.
URL:https://powelltownship.org/event/food-bank-open-at-bill-dionne-halfway-fire-hall-4/
LOCATION:Bill Dionne (Halfway) Fire Hall\, Bill Dionne Fire Station\, MARQUETTE\, MI\, 49855\, United States
END:VEVENT
BEGIN:VEVENT
DTSTART;TZID=America/New_York:20250521T190000
DTEND;TZID=America/New_York:20250521T200000
DTSTAMP:20260419T214013
CREATED:20250320T150615Z
LAST-MODIFIED:20250320T151039Z
UID:8997-1747854000-1747857600@powelltownship.org
SUMMARY:Planning Commission Meeting
DESCRIPTION:Planning Commission Regular Meeting\nMay 21\, 2025\, 7:00 P.M (third Wednesday\, every other month)\nPowell Township Hall\, 101 Bensinger St.\, Big Bay\, Michigan\, 49808
URL:https://powelltownship.org/event/planning-commission-meeting-25/
LOCATION:Historic Thunder Bay Inn\, 400 Bensinger\, BIG BAY\, MI\, 49808\, United States
END:VEVENT
BEGIN:VEVENT
DTSTART;TZID=America/New_York:20250529T180000
DTEND;TZID=America/New_York:20250529T200000
DTSTAMP:20260419T214013
CREATED:20250410T153937Z
LAST-MODIFIED:20250410T153941Z
UID:9163-1748541600-1748548800@powelltownship.org
SUMMARY:Fire Department Meeting
DESCRIPTION:
URL:https://powelltownship.org/event/fire-department-meeting-32/
LOCATION:Big Bay EMS/Fire Hall\, 103 Bensinger\, Big Bay\, MI\, 49808\, United States
END:VEVENT
BEGIN:VEVENT
DTSTART;TZID=America/New_York:20250529T183000
DTEND;TZID=America/New_York:20250529T200000
DTSTAMP:20260419T214013
CREATED:20250410T154237Z
LAST-MODIFIED:20250410T155123Z
UID:9166-1748543400-1748548800@powelltownship.org
SUMMARY:Big Bay Stewardship Council (BBSC) Meeting
DESCRIPTION:Big Bay Stewardship Council (BBSC) Monthly Meeting\nMay 29\, 2025\, 6:30 P.M. – 8:00 P.M. (fourth Thursday each month)\nPowell Township Hall\, 101 Bensinger St.\, Big Bay\, Michigan\, 49808\nTo learn more about the BBSC\, click here.  \nJoin Zoom Meeting  \nhttps://us02web.zoom.us/j/89626420656?pwd=eUxFL1Y4ZlpMc2I3eGhHTURCeForQT09 \nMeeting ID: 896 2642 0656 \nPasscode: 720009 \nOne tap mobile \n+13017158592\,\,89626420656#\,\,\,\,*720009# US (Washington DC) \n+13126266799\,\,89626420656#\,\,\,\,*720009# US (Chicago)\nDial by your location \n+1 301 715 8592 US (Washington DC) \n+1 312 626 6799 US (Chicago) \n+1 646 558 8656 US (New York) \n+1 253 215 8782 US (Tacoma) \n+1 346 248 7799 US (Houston) \n+1 669 900 9128 US (San Jose) \nMeeting ID: 896 2642 0656 \nPasscode: 720009 \nFind your local number: https://us02web.zoom.us/u/kmt89UR2w
URL:https://powelltownship.org/event/big-bay-stewardship-council-bbsc-meeting-5/
LOCATION:Historic Thunder Bay Inn\, 400 Bensinger\, BIG BAY\, MI\, 49808\, United States
ORGANIZER;CN="BBSC":MAILTO:coordinator@bigbaystewardship.org
END:VEVENT
END:VCALENDAR