BEGIN:VCALENDAR
VERSION:2.0
PRODID:-//Powell Township - ECPv6.15.15//NONSGML v1.0//EN
CALSCALE:GREGORIAN
METHOD:PUBLISH
X-ORIGINAL-URL:https://powelltownship.org
X-WR-CALDESC:Events for Powell Township
REFRESH-INTERVAL;VALUE=DURATION:PT1H
X-Robots-Tag:noindex
X-PUBLISHED-TTL:PT1H
BEGIN:VTIMEZONE
TZID:America/New_York
BEGIN:DAYLIGHT
TZOFFSETFROM:-0500
TZOFFSETTO:-0400
TZNAME:EDT
DTSTART:20240310T070000
END:DAYLIGHT
BEGIN:STANDARD
TZOFFSETFROM:-0400
TZOFFSETTO:-0500
TZNAME:EST
DTSTART:20241103T060000
END:STANDARD
BEGIN:DAYLIGHT
TZOFFSETFROM:-0500
TZOFFSETTO:-0400
TZNAME:EDT
DTSTART:20250309T070000
END:DAYLIGHT
BEGIN:STANDARD
TZOFFSETFROM:-0400
TZOFFSETTO:-0500
TZNAME:EST
DTSTART:20251102T060000
END:STANDARD
BEGIN:DAYLIGHT
TZOFFSETFROM:-0500
TZOFFSETTO:-0400
TZNAME:EDT
DTSTART:20260308T070000
END:DAYLIGHT
BEGIN:STANDARD
TZOFFSETFROM:-0400
TZOFFSETTO:-0500
TZNAME:EST
DTSTART:20261101T060000
END:STANDARD
END:VTIMEZONE
BEGIN:VEVENT
DTSTART;TZID=America/New_York:20250601T190000
DTEND;TZID=America/New_York:20250601T200000
DTSTAMP:20260419T235050
CREATED:20250505T155936Z
LAST-MODIFIED:20250505T160316Z
UID:9357-1748804400-1748808000@powelltownship.org
SUMMARY:Ambulance Department Meeting
DESCRIPTION:Ambulance Department Meeting \nJune 1\, 2025\, 7:00 P.M. (first Sunday each month)\nPowell Township Fire Hall\, 103 Bensinger St.\, Big Bay\, Michigan\, 49808
URL:https://powelltownship.org/event/ambulance-department-meeting-20/
LOCATION:Big Bay EMS/Fire Hall\, 103 Bensinger\, Big Bay\, MI\, 49808\, United States
END:VEVENT
BEGIN:VEVENT
DTSTART;TZID=America/New_York:20250603T173000
DTEND;TZID=America/New_York:20250603T190000
DTSTAMP:20260419T235050
CREATED:20250413T192154Z
LAST-MODIFIED:20250415T211618Z
UID:9183-1748971800-1748977200@powelltownship.org
SUMMARY:Eagle Mine Community Forum
DESCRIPTION:NOTICE – Eagle Mine Community Forum – 3 June 2025\nThe Eagle Mine will host an Eagle Mine Community Forum on June 3\, 2025\, at Powell Township Hall. Mine information is available at the Eagle Mine website. \n\n5:30 – 7:00 P.M.\nDINNER PROVIDED\nContact: Meagen Morrison\, Social Performance Supervisor\nMobile: (906) 204-0587\nEmail: Meagen.morrison@lundinmining.com
URL:https://powelltownship.org/event/eagle-mine-community-forum/
LOCATION:Historic Thunder Bay Inn\, 400 Bensinger\, BIG BAY\, MI\, 49808\, United States
END:VEVENT
BEGIN:VEVENT
DTSTART;TZID=America/New_York:20250610T183000
DTEND;TZID=America/New_York:20250610T193000
DTSTAMP:20260419T235050
CREATED:20250505T161204Z
LAST-MODIFIED:20250505T161218Z
UID:9360-1749580200-1749583800@powelltownship.org
SUMMARY:Parks and Recreation Committee Meeting
DESCRIPTION:Parks and Recreation Committee Meeting \nJune 10\, 2025\, 6:30 P.M. (second Tuesday each month) \nPowell Township Hall\, 101 Bensinger St.\, Big Bay\, Michigan\, 49808 \nParks and Recreation Committee members: \n\nHeidi Shatz – Chair\nCoty Sorby – Vice Chair\nDarlene Turner – Treasurer\nKelli Santilli – Secretary\nKelly Cain – Member\nLinda Ludwig – Member\nSven Gonstead – Member
URL:https://powelltownship.org/event/parks-and-recreation-committee-meeting-4/
LOCATION:Historic Thunder Bay Inn\, 400 Bensinger\, BIG BAY\, MI\, 49808\, United States
END:VEVENT
BEGIN:VEVENT
DTSTART;TZID=America/New_York:20250617T190000
DTEND;TZID=America/New_York:20250617T200000
DTSTAMP:20260419T235050
CREATED:20250505T163050Z
LAST-MODIFIED:20250612T165844Z
UID:9368-1750186800-1750190400@powelltownship.org
SUMMARY:Powell Township Board Meeting
DESCRIPTION:Powell Township Board Meeting\nJune 17\, 2025\, 7:00 P.M. (third Tuesday each month)\nPowell Township Hall\, 101 Bensinger St.\, Big Bay\, Michigan\, 49808\nThe following documents are available here for the public the day of the meeting. Hardcopies are available at the Hall the day of the meeting: \n\nAgenda (with available Agenda item attachments)\nPrevious Meeting’s Draft Minutes (for review and approval)\nBills to be Paid\nRevenue and Expenditure Report\nTreasurer’s Report\nBudget Amendments\n\n  \nTo attend remotely\, two options are available: \n\nJoin Zoom Meeting (to use computer audio and video):\nhttps://us06web.zoom.us/j/87042567856\nMeeting ID: 870 4256 7856\nPasscode: BigBay\nCall In (to use phone for audio only):\nPhone: 1-689-278-1000\nMeeting ID: 870 4256 7856\nPasscode: 863563
URL:https://powelltownship.org/event/powell-township-board-meeting-6/
LOCATION:Historic Thunder Bay Inn\, 400 Bensinger\, BIG BAY\, MI\, 49808\, United States
END:VEVENT
BEGIN:VEVENT
DTSTART;TZID=America/New_York:20250618T190000
DTEND;TZID=America/New_York:20250618T200000
DTSTAMP:20260419T235050
CREATED:20250524T223012Z
LAST-MODIFIED:20250529T163816Z
UID:9507-1750273200-1750276800@powelltownship.org
SUMMARY:Planning Commission Meeting
DESCRIPTION:Planning Commission Regular Meeting\nJune 18\, 2025\, 7:00 P.M (third Wednesday each month)\nPowell Township Hall\, 101 Bensinger St.\, Big Bay\, Michigan\, 49808
URL:https://powelltownship.org/event/planning-commission-meeting-27/
LOCATION:Historic Thunder Bay Inn\, 400 Bensinger\, BIG BAY\, MI\, 49808\, United States
END:VEVENT
BEGIN:VEVENT
DTSTART;TZID=America/New_York:20250626T180000
DTEND;TZID=America/New_York:20250626T200000
DTSTAMP:20260419T235050
CREATED:20250505T164205Z
LAST-MODIFIED:20250505T164332Z
UID:9374-1750960800-1750968000@powelltownship.org
SUMMARY:Fire Department Meeting
DESCRIPTION:Fire Department Meeting\nJune 26\, 2025\, 6:00 – 8:00 P.M. (last Thursday each month)\nPowell Township Fire Hall\, 103 Bensinger St.\, Big Bay\, Michigan\, 49808
URL:https://powelltownship.org/event/fire-department-meeting-33/
END:VEVENT
BEGIN:VEVENT
DTSTART;TZID=America/New_York:20250626T183000
DTEND;TZID=America/New_York:20250626T200000
DTSTAMP:20260419T235050
CREATED:20250505T164057Z
LAST-MODIFIED:20250626T172728Z
UID:9372-1750962600-1750968000@powelltownship.org
SUMMARY:Big Bay Stewardship Council (BBSC) Monthly Meeting
DESCRIPTION:Big Bay Stewardship Council (BBSC) Monthly Meeting\nJune 26\, 2025\, 6:30 P.M. – 8:00 P.M. (fourth Thursday each month)\nJUNE’S MEETING IS AT THE THUNDER BAY INN\, Big Bay\, Michigan\, 49808\nTo learn more about the BBSC\, click here.  \nJoin Zoom Meeting  \nhttps://us02web.zoom.us/j/89626420656?pwd=eUxFL1Y4ZlpMc2I3eGhHTURCeForQT09 \nMeeting ID: 896 2642 0656 \nPasscode: 720009 \nOne tap mobile \n+13017158592\,\,89626420656#\,\,\,\,*720009# US (Washington DC) \n+13126266799\,\,89626420656#\,\,\,\,*720009# US (Chicago)\nDial by your location \n+1 301 715 8592 US (Washington DC) \n+1 312 626 6799 US (Chicago) \n+1 646 558 8656 US (New York) \n+1 253 215 8782 US (Tacoma) \n+1 346 248 7799 US (Houston) \n+1 669 900 9128 US (San Jose) \nMeeting ID: 896 2642 0656 \nPasscode: 720009 \nFind your local number: https://us02web.zoom.us/u/kmt89UR2w
URL:https://powelltownship.org/event/big-bay-stewardship-council-bbsc-monthly-meeting/
LOCATION:Historic Thunder Bay Inn\, 400 Bensinger\, BIG BAY\, MI\, 49808\, United States
ORGANIZER;CN="BBSC":MAILTO:coordinator@bigbaystewardship.org
END:VEVENT
END:VCALENDAR