BEGIN:VCALENDAR
VERSION:2.0
PRODID:-//Powell Township - ECPv6.15.15//NONSGML v1.0//EN
CALSCALE:GREGORIAN
METHOD:PUBLISH
X-WR-CALNAME:Powell Township
X-ORIGINAL-URL:https://powelltownship.org
X-WR-CALDESC:Events for Powell Township
REFRESH-INTERVAL;VALUE=DURATION:PT1H
X-Robots-Tag:noindex
X-PUBLISHED-TTL:PT1H
BEGIN:VTIMEZONE
TZID:America/New_York
BEGIN:DAYLIGHT
TZOFFSETFROM:-0500
TZOFFSETTO:-0400
TZNAME:EDT
DTSTART:20240310T070000
END:DAYLIGHT
BEGIN:STANDARD
TZOFFSETFROM:-0400
TZOFFSETTO:-0500
TZNAME:EST
DTSTART:20241103T060000
END:STANDARD
BEGIN:DAYLIGHT
TZOFFSETFROM:-0500
TZOFFSETTO:-0400
TZNAME:EDT
DTSTART:20250309T070000
END:DAYLIGHT
BEGIN:STANDARD
TZOFFSETFROM:-0400
TZOFFSETTO:-0500
TZNAME:EST
DTSTART:20251102T060000
END:STANDARD
BEGIN:DAYLIGHT
TZOFFSETFROM:-0500
TZOFFSETTO:-0400
TZNAME:EDT
DTSTART:20260308T070000
END:DAYLIGHT
BEGIN:STANDARD
TZOFFSETFROM:-0400
TZOFFSETTO:-0500
TZNAME:EST
DTSTART:20261101T060000
END:STANDARD
END:VTIMEZONE
BEGIN:VEVENT
DTSTART;TZID=America/New_York:20250802T080000
DTEND;TZID=America/New_York:20250802T160000
DTSTAMP:20260420T050031
CREATED:20250708T031825Z
LAST-MODIFIED:20250708T031828Z
UID:9855-1754121600-1754150400@powelltownship.org
SUMMARY:SPECIAL CLERK HOURS for AUG 5 SPECIAL ELECTION REGISTRATION
DESCRIPTION:The OFFICIAL REGISTRATION NOTICE with all details and times is posted on township bulletin boards and available for viewing  here.
URL:https://powelltownship.org/event/special-clerk-hours-for-aug-5-special-election-registration/
LOCATION:Powell Township Offices\, 101 Bensinger\, BIG BAY\, MI\, 49808\, United States
END:VEVENT
BEGIN:VEVENT
DTSTART;TZID=America/New_York:20250803T190000
DTEND;TZID=America/New_York:20250803T200000
DTSTAMP:20260420T050032
CREATED:20250707T165416Z
LAST-MODIFIED:20250707T165420Z
UID:9792-1754247600-1754251200@powelltownship.org
SUMMARY:Ambulance Department Meeting
DESCRIPTION:Ambulance Department Meeting \nAugust 3\, 2025\, 7:00 P.M. (first Sunday each month)\nPowell Township Fire Hall\, 103 Bensinger St.\, Big Bay\, Michigan\, 49808
URL:https://powelltownship.org/event/ambulance-department-meeting-22/
LOCATION:Big Bay EMS/Fire Hall\, 103 Bensinger\, Big Bay\, MI\, 49808\, United States
END:VEVENT
BEGIN:VEVENT
DTSTART;TZID=America/New_York:20250805T070000
DTEND;TZID=America/New_York:20250805T200000
DTSTAMP:20260420T050032
CREATED:20250708T030957Z
LAST-MODIFIED:20250708T031317Z
UID:9847-1754377200-1754424000@powelltownship.org
SUMMARY:SPECIAL ELECTION - OPERATING MILLAGE PROPOSAL
DESCRIPTION:The OFFICIAL NOTICE with all details is posted on township bulletin boards and available for viewing  here.
URL:https://powelltownship.org/event/special-election-operating-millage-proposal/
LOCATION:Powell Township Hall\, 101 Bensinger St\, Big Bay\, Michigan\, 49808
END:VEVENT
BEGIN:VEVENT
DTSTART;TZID=America/New_York:20250812T183000
DTEND;TZID=America/New_York:20250812T200000
DTSTAMP:20260420T050032
CREATED:20250710T171502Z
LAST-MODIFIED:20250710T171613Z
UID:9875-1755023400-1755028800@powelltownship.org
SUMMARY:Parks and Recreation Committee Meeting
DESCRIPTION:Parks and Recreation Meeting\nAugust 12\, 2025\, 6:30 P.M. (second Tuesday each month)\nPowell Township Hall\, 101 Bensinger St.\, Big Bay\, Michigan\, 49808\nParks and Recreation Committee members: \n\nHeidi Shatz – Chair\nCoty Sorby – Vice Chair\nDarlene Turner – Treasurer\nKelli Santilli – Secretary\nKelly Cain – Member\nLinda Ludwig – Member\nSven Gonstead – Member
URL:https://powelltownship.org/event/parks-and-recreation-committee-meeting-6/
LOCATION:Powell Township Hall\, 101 Bensinger St\, Big Bay\, Michigan\, 49808
END:VEVENT
BEGIN:VEVENT
DTSTART;TZID=America/New_York:20250819T190000
DTEND;TZID=America/New_York:20250819T200000
DTSTAMP:20260420T050032
CREATED:20250716T011552Z
LAST-MODIFIED:20250716T011718Z
UID:9960-1755630000-1755633600@powelltownship.org
SUMMARY:Powell Township Board Meeting
DESCRIPTION:Powell Township Board Meeting\nAugust 19\, 2025\, 7:00 P.M. (third Tuesday each month)\nPowell Township Hall\, 101 Bensinger St.\, Big Bay\, Michigan\, 49808\nThe following documents are available here for the public the day of the meeting. Hardcopies are available at the Hall the day of the meeting: \n\nAgenda (with available Agenda item attachments)\nPrevious Meeting’s Draft Minutes (for review and approval)\nBills to be Paid\nRevenue and Expenditure Report\nTreasurer’s Report\nBudget Amendments\n\n  \nTo attend remotely\, two options are available: \n\nJoin Zoom Meeting (to use computer audio and video):\nhttps://us06web.zoom.us/j/87042567856\nMeeting ID: 870 4256 7856\nPasscode: BigBay\nCall In (to use phone for audio only):\nPhone: 1-689-278-1000\nMeeting ID: 870 4256 7856\nPasscode: 863563
URL:https://powelltownship.org/event/powell-township-board-meeting-8/
LOCATION:Powell Township Hall\, 101 Bensinger St\, Big Bay\, Michigan\, 49808
END:VEVENT
BEGIN:VEVENT
DTSTART;TZID=America/New_York:20250828T180000
DTEND;TZID=America/New_York:20250828T200000
DTSTAMP:20260420T050032
CREATED:20250801T182235Z
LAST-MODIFIED:20250801T182417Z
UID:10060-1756404000-1756411200@powelltownship.org
SUMMARY:Fire Department Meeting
DESCRIPTION:Fire Department Meeting\nAugust 28\, 2025\, 6:00 – 8:00 P.M. (last Thursday each month)\nPowell Township Fire Hall\, 103 Bensinger St.\, Big Bay\, Michigan\, 49808
URL:https://powelltownship.org/event/fire-department-meeting-35/
LOCATION:Big Bay EMS/Fire Hall\, 103 Bensinger\, Big Bay\, MI\, 49808\, United States
END:VEVENT
BEGIN:VEVENT
DTSTART;TZID=America/New_York:20250828T183000
DTEND;TZID=America/New_York:20250828T200000
DTSTAMP:20260420T050032
CREATED:20250801T181930Z
LAST-MODIFIED:20250801T181936Z
UID:10058-1756405800-1756411200@powelltownship.org
SUMMARY:Big Bay Stewardship Council (BBSC) Monthly Meeting
DESCRIPTION:Big Bay Stewardship Council (BBSC) Monthly Meeting\nAugust 28\, 2025\, 6:30 P.M. – 8:00 P.M. (fourth Thursday each month)\nPowell Township Hall\, 101 Bensinger Street\, Big Bay\, Michigan\, 49808\nTo learn more about the BBSC\, click here.  \nJoin Zoom Meeting  \nhttps://us02web.zoom.us/j/89626420656?pwd=eUxFL1Y4ZlpMc2I3eGhHTURCeForQT09 \nMeeting ID: 896 2642 0656 \nPasscode: 720009 \nOne tap mobile \n+13017158592\,\,89626420656#\,\,\,\,*720009# US (Washington DC) \n+13126266799\,\,89626420656#\,\,\,\,*720009# US (Chicago)\nDial by your location \n+1 301 715 8592 US (Washington DC) \n+1 312 626 6799 US (Chicago) \n+1 646 558 8656 US (New York) \n+1 253 215 8782 US (Tacoma) \n+1 346 248 7799 US (Houston) \n+1 669 900 9128 US (San Jose) \nMeeting ID: 896 2642 0656 \nPasscode: 720009 \nFind your local number: https://us02web.zoom.us/u/kmt89UR2w
URL:https://powelltownship.org/event/big-bay-stewardship-council-bbsc-monthly-meeting-3/
LOCATION:Powell Township Hall\, 101 Bensinger St\, Big Bay\, Michigan\, 49808
ORGANIZER;CN="BBSC":MAILTO:coordinator@bigbaystewardship.org
END:VEVENT
END:VCALENDAR