BEGIN:VCALENDAR
VERSION:2.0
PRODID:-//Powell Township - ECPv6.15.15//NONSGML v1.0//EN
CALSCALE:GREGORIAN
METHOD:PUBLISH
X-WR-CALNAME:Powell Township
X-ORIGINAL-URL:https://powelltownship.org
X-WR-CALDESC:Events for Powell Township
REFRESH-INTERVAL;VALUE=DURATION:PT1H
X-Robots-Tag:noindex
X-PUBLISHED-TTL:PT1H
BEGIN:VTIMEZONE
TZID:America/New_York
BEGIN:DAYLIGHT
TZOFFSETFROM:-0500
TZOFFSETTO:-0400
TZNAME:EDT
DTSTART:20240310T070000
END:DAYLIGHT
BEGIN:STANDARD
TZOFFSETFROM:-0400
TZOFFSETTO:-0500
TZNAME:EST
DTSTART:20241103T060000
END:STANDARD
BEGIN:DAYLIGHT
TZOFFSETFROM:-0500
TZOFFSETTO:-0400
TZNAME:EDT
DTSTART:20250309T070000
END:DAYLIGHT
BEGIN:STANDARD
TZOFFSETFROM:-0400
TZOFFSETTO:-0500
TZNAME:EST
DTSTART:20251102T060000
END:STANDARD
BEGIN:DAYLIGHT
TZOFFSETFROM:-0500
TZOFFSETTO:-0400
TZNAME:EDT
DTSTART:20260308T070000
END:DAYLIGHT
BEGIN:STANDARD
TZOFFSETFROM:-0400
TZOFFSETTO:-0500
TZNAME:EST
DTSTART:20261101T060000
END:STANDARD
END:VTIMEZONE
BEGIN:VEVENT
DTSTART;TZID=America/New_York:20250907T190000
DTEND;TZID=America/New_York:20250907T200000
DTSTAMP:20260420T085842
CREATED:20250804T173620Z
LAST-MODIFIED:20250804T173623Z
UID:10069-1757271600-1757275200@powelltownship.org
SUMMARY:Ambulance Department Meeting
DESCRIPTION:Ambulance Department Meeting \nSeptember 7\, 2025\, 7:00 P.M. (first Sunday each month)\nPowell Township Fire Hall\, 103 Bensinger St.\, Big Bay\, Michigan\, 49808
URL:https://powelltownship.org/event/ambulance-department-meeting-23/
LOCATION:Big Bay EMS/Fire Hall\, 103 Bensinger\, Big Bay\, MI\, 49808\, United States
END:VEVENT
BEGIN:VEVENT
DTSTART;TZID=America/New_York:20250909T183000
DTEND;TZID=America/New_York:20250909T200000
DTSTAMP:20260420T085842
CREATED:20250814T170001Z
LAST-MODIFIED:20250814T170006Z
UID:10104-1757442600-1757448000@powelltownship.org
SUMMARY:Parks and Recreation Meeting
DESCRIPTION:Parks and Recreation Meeting\nSeptember 9\, 2025\, 6:30 P.M. (second Tuesday each month)\nPowell Township Hall\, 101 Bensinger St.\, Big Bay\, Michigan\, 49808\nParks and Recreation Committee members: \n\nHeidi Shatz – Chair\nCoty Sorby – Vice Chair\nDarlene Turner – Treasurer\nKelli Santilli – Secretary\nKelly Cain – Member\nLinda Ludwig – Member\nSven Gonstead – Member
URL:https://powelltownship.org/event/parks-and-recreation-meeting-15/
LOCATION:Powell Township Hall\, 101 Bensinger St\, Big Bay\, Michigan\, 49808
END:VEVENT
BEGIN:VEVENT
DTSTART;TZID=America/New_York:20250911T190000
DTEND;TZID=America/New_York:20250911T190000
DTSTAMP:20260420T085842
CREATED:20250908T173050Z
LAST-MODIFIED:20250908T173055Z
UID:10192-1757617200-1757617200@powelltownship.org
SUMMARY:Powell Township Committee of the Whole Meeting - OPEN TO THE PUBLIC
DESCRIPTION:NOTICE – Powell Township Committee of the Whole Meeting – OPEN TO THE PUBLIC\nSeptember 11\, 2025\, 7:00 P.M. \nPowell Township Hall\, 101 Bensinger St.\, Big Bay\, Michigan\, 49808\nThis meeting is open to the public. Board members and Trustees will also be present. The meeting purpose is to discuss items on the below agenda. No decisions requiring Board voting will be made. A committee of the whole is a meeting where multiple committees meet together\, sometimes including the entire board. This type of meeting allows for more interaction between committees and board members. With rare exceptions\, Committee of the Whole Meetings usually occur on the second Thursday of each month to discuss the upcoming Board Meeting’s Agenda. \nAGENDA: \n\nDiscuss the draft September 16\, 2025\, Powell Township Board Meeting Agenda\nDiscuss potential additions to the Agenda
URL:https://powelltownship.org/event/powell-township-committee-of-the-whole-meeting-open-to-the-public-5/
LOCATION:Powell Township Hall\, 101 Bensinger St\, Big Bay\, Michigan\, 49808
END:VEVENT
BEGIN:VEVENT
DTSTART;TZID=America/New_York:20250916T190000
DTEND;TZID=America/New_York:20250916T200000
DTSTAMP:20260420T085842
CREATED:20250820T003859Z
LAST-MODIFIED:20250820T003904Z
UID:10139-1758049200-1758052800@powelltownship.org
SUMMARY:Powell Township Board Meeting
DESCRIPTION:Powell Township Board Meeting\nSeptember 16\, 2025\, 7:00 P.M. (third Tuesday each month)\nPowell Township Hall\, 101 Bensinger St.\, Big Bay\, Michigan\, 49808\nThe following documents are available here for the public the day of the meeting. Hardcopies are available at the Hall the day of the meeting: \n\nAgenda (with available Agenda item attachments)\nPrevious Meeting’s Draft Minutes (for review and approval)\nBills to be Paid\nRevenue and Expenditure Report\nTreasurer’s Report\nBudget Amendments\n\n  \nTo attend remotely\, two options are available: \n\nJoin Zoom Meeting (to use computer audio and video):\nhttps://us06web.zoom.us/j/87042567856\nMeeting ID: 870 4256 7856\nPasscode: BigBay\nCall In (to use phone for audio only):\nPhone: 1-689-278-1000\nMeeting ID: 870 4256 7856\nPasscode: 863563
URL:https://powelltownship.org/event/powell-township-board-meeting-9/
LOCATION:Powell Township Hall\, 101 Bensinger St\, Big Bay\, Michigan\, 49808
END:VEVENT
BEGIN:VEVENT
DTSTART;TZID=America/New_York:20250917T190000
DTEND;TZID=America/New_York:20250917T200000
DTSTAMP:20260420T085842
CREATED:20250721T173022Z
LAST-MODIFIED:20250724T195802Z
UID:9981-1758135600-1758139200@powelltownship.org
SUMMARY:Planning Commission Regular Meeting
DESCRIPTION:Planning Commission Regular Meeting\nSeptember 17\, 2025\, 7:00 P.M (third Wednesday each month)\nPowell Township Hall\, 101 Bensinger St.\, Big Bay\, Michigan\, 49808
URL:https://powelltownship.org/event/planning-commission-regular-meeting-2/
LOCATION:Powell Township Hall\, 101 Bensinger St\, Big Bay\, Michigan\, 49808
END:VEVENT
BEGIN:VEVENT
DTSTART;TZID=America/New_York:20250920T110000
DTEND;TZID=America/New_York:20250920T160000
DTSTAMP:20260420T085842
CREATED:20250224T204931Z
LAST-MODIFIED:20250807T155329Z
UID:8670-1758366000-1758384000@powelltownship.org
SUMMARY:Annual Fall Festival
DESCRIPTION:11 A.M. to 4:00 P.M. at Draver Park. A save the date poster is available from the Big Bay Stewardship Council (BBSC) [here].
URL:https://powelltownship.org/event/annual-fall-festival-save-the-date/
LOCATION:Draver Park\, 506 HOFFMAN ST\, BIG BAY\, MI\, 49808\, United States
ORGANIZER;CN="BBSC":MAILTO:coordinator@bigbaystewardship.org
END:VEVENT
BEGIN:VEVENT
DTSTART;TZID=America/New_York:20250925T180000
DTEND;TZID=America/New_York:20250925T200000
DTSTAMP:20260420T085842
CREATED:20250814T171353Z
LAST-MODIFIED:20250814T171405Z
UID:10107-1758823200-1758830400@powelltownship.org
SUMMARY:Fire Department Meeting
DESCRIPTION:Fire Department Meeting\nSeptember 25\, 2025\, 6:00 – 8:00 P.M. (last Thursday each month)\nPowell Township Fire Hall\, 103 Bensinger St.\, Big Bay\, Michigan\, 49808
URL:https://powelltownship.org/event/fire-department-meeting-36/
LOCATION:Big Bay EMS/Fire Hall\, 103 Bensinger\, Big Bay\, MI\, 49808\, United States
END:VEVENT
BEGIN:VEVENT
DTSTART;TZID=America/New_York:20250925T183000
DTEND;TZID=America/New_York:20250925T200000
DTSTAMP:20260420T085842
CREATED:20250814T171638Z
LAST-MODIFIED:20250814T172648Z
UID:10110-1758825000-1758830400@powelltownship.org
SUMMARY:Big Bay Stewardship Council (BBSC) Monthly Meeting
DESCRIPTION:Big Bay Stewardship Council (BBSC) Monthly Meeting\nSeptember 25\, 2025\, 6:30 P.M. – 8:00 P.M. (fourth Thursday each month)\nPowell Township Hall\, 101 Bensinger Street\, Big Bay\, Michigan\, 49808\nTo learn more about the BBSC\, click here.  \nJoin Zoom Meeting  \nhttps://us02web.zoom.us/j/89626420656?pwd=eUxFL1Y4ZlpMc2I3eGhHTURCeForQT09 \nMeeting ID: 896 2642 0656 \nPasscode: 720009 \nOne tap mobile \n+13017158592\,\,89626420656#\,\,\,\,*720009# US (Washington DC) \n+13126266799\,\,89626420656#\,\,\,\,*720009# US (Chicago)\nDial by your location \n+1 301 715 8592 US (Washington DC) \n+1 312 626 6799 US (Chicago) \n+1 646 558 8656 US (New York) \n+1 253 215 8782 US (Tacoma) \n+1 346 248 7799 US (Houston) \n+1 669 900 9128 US (San Jose) \nMeeting ID: 896 2642 0656 \nPasscode: 720009 \nFind your local number: https://us02web.zoom.us/u/kmt89UR2w
URL:https://powelltownship.org/event/10110/
LOCATION:Powell Township Hall\, 101 Bensinger St\, Big Bay\, Michigan\, 49808
ORGANIZER;CN="BBSC":MAILTO:coordinator@bigbaystewardship.org
END:VEVENT
END:VCALENDAR