BEGIN:VCALENDAR
VERSION:2.0
PRODID:-//Powell Township - ECPv6.15.15//NONSGML v1.0//EN
CALSCALE:GREGORIAN
METHOD:PUBLISH
X-ORIGINAL-URL:https://powelltownship.org
X-WR-CALDESC:Events for Powell Township
REFRESH-INTERVAL;VALUE=DURATION:PT1H
X-Robots-Tag:noindex
X-PUBLISHED-TTL:PT1H
BEGIN:VTIMEZONE
TZID:America/New_York
BEGIN:DAYLIGHT
TZOFFSETFROM:-0500
TZOFFSETTO:-0400
TZNAME:EDT
DTSTART:20240310T070000
END:DAYLIGHT
BEGIN:STANDARD
TZOFFSETFROM:-0400
TZOFFSETTO:-0500
TZNAME:EST
DTSTART:20241103T060000
END:STANDARD
BEGIN:DAYLIGHT
TZOFFSETFROM:-0500
TZOFFSETTO:-0400
TZNAME:EDT
DTSTART:20250309T070000
END:DAYLIGHT
BEGIN:STANDARD
TZOFFSETFROM:-0400
TZOFFSETTO:-0500
TZNAME:EST
DTSTART:20251102T060000
END:STANDARD
BEGIN:DAYLIGHT
TZOFFSETFROM:-0500
TZOFFSETTO:-0400
TZNAME:EDT
DTSTART:20260308T070000
END:DAYLIGHT
BEGIN:STANDARD
TZOFFSETFROM:-0400
TZOFFSETTO:-0500
TZNAME:EST
DTSTART:20261101T060000
END:STANDARD
END:VTIMEZONE
BEGIN:VEVENT
DTSTART;TZID=America/New_York:20251101T080000
DTEND;TZID=America/New_York:20251101T160000
DTSTAMP:20260420T124201
CREATED:20250918T174501Z
LAST-MODIFIED:20250918T174501Z
UID:10278-1761984000-1762012800@powelltownship.org
SUMMARY:Extended Registration Hours for Special Election
DESCRIPTION:NOTICE – Extended Registration Hours for Special Election \nSaturday\, November 1\, 2025\, 8:00 A.M. to 4:00 P.M.\nPowell Township Hall\, 101 Bensinger St.\, Big Bay\, Michigan\, 49808\nFrom the Powell Township Election Department: \n\nThe Powell Township School Millage Special Election is November 4\, 2025\, 7:00 A.M. to 8:00 P.M.\nThe Township Clerk’s office extended hours for election registration are Saturday\, November 1\, 2025\, from 8:00 A.M. to 4:00 P.M.\nThe Public Accuracy Test for the election is on Monday\, October 20\, 2025\, 10:00 A.M.\, at Town Hall. This tests the election ballot equipment’s accuracy.\nA job posting for additional Election Inspectors is also available on the site homepage\, at the link in #6 below\, on town bulletin boards\, by inquiring at the township office Mondays or Thursdays 9AM – 12PM\, or by calling 906-345-9345 extension 10.\nFor all current Election Inspectors: please update your application if you wish to remain in place for any elections after January 1\, 2026.\nOfficial notices of events surrounding this election are posted on the Powell Township Election Department page  here.
URL:https://powelltownship.org/event/extended-registration-hours-for-special-election/
LOCATION:Powell Township Offices\, 101 Bensinger\, BIG BAY\, MI\, 49808\, United States
END:VEVENT
BEGIN:VEVENT
DTSTART;TZID=America/New_York:20251102T190000
DTEND;TZID=America/New_York:20251102T200000
DTSTAMP:20260420T124201
CREATED:20251006T163243Z
LAST-MODIFIED:20251006T163248Z
UID:10535-1762110000-1762113600@powelltownship.org
SUMMARY:Ambulance Department Meeting 
DESCRIPTION:Ambulance Department Meeting \nNovember 2\, 2025\, 7:00 P.M. (first Sunday each month)\nPowell Township Fire Hall\, 103 Bensinger St.\, Big Bay\, Michigan\, 49808
URL:https://powelltownship.org/event/ambulance-department-meeting-25/
LOCATION:Big Bay EMS/Fire Hall\, 103 Bensinger\, Big Bay\, MI\, 49808\, United States
END:VEVENT
BEGIN:VEVENT
DTSTART;TZID=America/New_York:20251104T070000
DTEND;TZID=America/New_York:20251104T200000
DTSTAMP:20260420T124201
CREATED:20250918T174300Z
LAST-MODIFIED:20250918T174300Z
UID:10274-1762239600-1762286400@powelltownship.org
SUMMARY:SCHOOL MILLAGE SPECIAL ELECTION
DESCRIPTION:NOTICE – SCHOOL MILLAGE SPECIAL ELECTION \nNovember 4\, 2025\, 7 A.M. to 8 P.M.\nPowell Township Hall\, 101 Bensinger St.\, Big Bay\, Michigan\, 49808\nFrom the Powell Township Election Department: \n\nThe Powell Township School Millage Special Election is November 4\, 2025\, 7:00 A.M. to 8:00 P.M.\nThe Township Clerk’s office extended hours for election registration are Saturday\, November 1\, 2025\, from 8:00 A.M. to 4:00 P.M.\nThe Public Accuracy Test for the election is on Monday\, October 20\, 2025\, 10:00 A.M.\, at Town Hall. This tests the election ballot equipment’s accuracy.\nA job posting for additional Election Inspectors is also available on the site homepage\, at the link in #6 below\, on town bulletin boards\, by inquiring at the township office Mondays or Thursdays 9AM – 12PM\, or by calling 906-345-9345 extension 10.\nFor all current Election Inspectors: please update your application if you wish to remain in place for any elections after January 1\, 2026.\nOfficial notices of events surrounding this election are posted on the Powell Township Election Department page  here.
URL:https://powelltownship.org/event/school-millage-special-election/
LOCATION:Powell Township Hall\, 101 Bensinger St\, Big Bay\, Michigan\, 49808
END:VEVENT
BEGIN:VEVENT
DTSTART;TZID=America/New_York:20251105T170000
DTEND;TZID=America/New_York:20251105T190000
DTSTAMP:20260420T124201
CREATED:20251023T180800Z
LAST-MODIFIED:20251023T183020Z
UID:10692-1762362000-1762369200@powelltownship.org
SUMMARY:FOOD BANK OPEN at BILL DIONNE (HALFWAY) FIRE HALL
DESCRIPTION:NOTICE – BILL DIONNE (HALFWAY) FIRE HALL FOOD BANK OPENINGS:\n5 – 7 P.M. on NOV 5\, NOV 19\, DEC 3\, DEC 17\, JAN 7\, JAN 21\, FEB 4\, FEB 18\, MAR 4\, and MAR 18 \n\nWith donated funds and volunteers\, the Powell Township Emergency Management Department will open the Bill Dionne Fire Hall at Halfway Food Bank starting November 5. Continuing it through summer will be determined in April.\nThe Food Bank will open from 5:00 to 7:00 P.M. on two Wednesdays per month: NOV 5 & 19\, DEC 3 & 17\, JAN 7 & 21\, FEB 4 & 18\, and MAR 4 & 18.\nNon-perishable food\, paper goods\, hygiene and cleaning supplies are available for anyone in need.   \nFor more information\, call Emergency Manager Kim Bourgeois (906-362-7275) or the township office (906-345-9345).\n\n  \nFood Bank Donations\n\nYou can make a monetary donation; make checks payable to Powell Township and note “food bank donation” in the memo line. A great holiday idea.\nYou can make a food/supply donation; drop off is available at the Powell Township office during regular office hours (Mon & Thu 9-12)\, or in the Powell Township Hall whenever it is open/active for events\, or dropped off during food bank operating hours at the Halfway Fire Hall.\nFor more information\, call Emergency Manager Kim Bourgeois (906-362-7275) or the township office (906-345-9345).
URL:https://powelltownship.org/event/food-bank-open-at-bill-dionne-halfway-fire-hall-5/
LOCATION:Bill Dionne (Halfway) Fire Hall\, Bill Dionne Fire Station\, MARQUETTE\, MI\, 49855\, United States
END:VEVENT
BEGIN:VEVENT
DTSTART;TZID=America/New_York:20251111T163000
DTEND;TZID=America/New_York:20251111T183000
DTSTAMP:20260420T124201
CREATED:20251110T160739Z
LAST-MODIFIED:20251110T160739Z
UID:10818-1762878600-1762885800@powelltownship.org
SUMMARY:COMMUNITY DINNER
DESCRIPTION:NOTICE – COMMUNITY DINNER\nNovember 11\, 4:30 – 6:30 P.M.\nCommunity Presbyterian Church of Big Bay\, Michigan\, 49808\nHot turkey sandwiches\, mashed potatoes\, gravy\, vegetable\, side\, desserts. Invite a friend. Takeout available. Questions? Contact the church at 906-345-9543.
URL:https://powelltownship.org/event/community-dinner/
LOCATION:Community Presbyterian Church of Big Bay\, 300 Bensinger Street\, Big Bay\, 49808\, United States
END:VEVENT
BEGIN:VEVENT
DTSTART;TZID=America/New_York:20251111T183000
DTEND;TZID=America/New_York:20251111T193000
DTSTAMP:20260420T124201
CREATED:20251015T160933Z
LAST-MODIFIED:20251015T161342Z
UID:10626-1762885800-1762889400@powelltownship.org
SUMMARY:Parks and Recreation Committee Meeting
DESCRIPTION:Parks and Recreation Committee Meeting\nNovember 11\, 2025\, 6:30 P.M. (second Tuesday each month)\nPowell Township Hall\, 101 Bensinger St.\, Big Bay\, Michigan\, 49808\nParks and Recreation Committee members: \n\nHeidi Shatz – Chair\nCoty Sorby – Vice Chair\nDarlene Turner – Treasurer\nKelli Santilli – Secretary\nKelly Cain – Member\nLinda Ludwig – Member\nSven Gonstead – Member
URL:https://powelltownship.org/event/parks-and-recreation-committee-meeting-8/
LOCATION:Powell Township Hall\, 101 Bensinger St\, Big Bay\, Michigan\, 49808
END:VEVENT
BEGIN:VEVENT
DTSTART;TZID=America/New_York:20251112T090000
DTEND;TZID=America/New_York:20251112T160000
DTSTAMP:20260420T124201
CREATED:20251027T135911Z
LAST-MODIFIED:20251027T135928Z
UID:10735-1762938000-1762963200@powelltownship.org
SUMMARY:SENIOR SERVICES AT TOWN HALL
DESCRIPTION:NOTICE – SENIOR SERVICES AT TOWN HALL NOVEMBER 12 & 20\nNovember 12\, 9AM-4PM\nNovember 20\, 9AM – 4PM\nPowell Township Hall\, 101 Bensinger St.\, Big Bay\, Michigan\, 49808\n\nA Marquette Senior Center social worker will be at the Hall to provide services.\nFor more information or to schedule an appointment\, call 906-228-0456.\nSERVICES AND APPOINTMENTS ARE FREE OF CHARGE AND OPEN TO ALL SENIORS IN THE AREA.\nOne major goal is to help residents with health insurance registrations.
URL:https://powelltownship.org/event/senior-services-at-town-hall/
LOCATION:Powell Township Hall\, 101 Bensinger St\, Big Bay\, Michigan\, 49808
END:VEVENT
BEGIN:VEVENT
DTSTART;TZID=America/New_York:20251112T173000
DTEND;TZID=America/New_York:20251112T190000
DTSTAMP:20260420T124201
CREATED:20251020T160645Z
LAST-MODIFIED:20251020T160656Z
UID:10642-1762968600-1762974000@powelltownship.org
SUMMARY:Eagle Mine Community Forum
DESCRIPTION:NOTICE – Eagle Mine Community Forum – 12 November 2025\nThe Eagle Mine will host an Eagle Mine Community Forum on November 12\, 2025\, at Powell Township Hall. Mine information is available at the Eagle Mine website. \n\n5:30 – 7:00 P.M.\nDINNER PROVIDED\nContact: Meagen Morrison\, Social Performance Supervisor\nMobile: (906) 204-0587\nEmail: Meagen.morrison@lundinmining.com
URL:https://powelltownship.org/event/eagle-mine-community-forum-2/
LOCATION:Powell Township Hall\, 101 Bensinger St\, Big Bay\, Michigan\, 49808
END:VEVENT
BEGIN:VEVENT
DTSTART;TZID=America/New_York:20251118T190000
DTEND;TZID=America/New_York:20251118T200000
DTSTAMP:20260420T124201
CREATED:20251023T163920Z
LAST-MODIFIED:20251023T165128Z
UID:10674-1763492400-1763496000@powelltownship.org
SUMMARY:Powell Township Board Meeting
DESCRIPTION:Powell Township Board Meeting\nNovember 18\, 2025\, 7:00 P.M. (third Tuesday each month)\nPowell Township Hall\, 101 Bensinger St.\, Big Bay\, Michigan\, 49808\nThe following documents are available here for the public the day of the meeting. Hardcopies are available at the Hall the day of the meeting: \n\nAgenda (with available Agenda item attachments)\nPrevious Meeting’s Draft Minutes (for review and approval)\nBills to be Paid\nRevenue and Expenditure Report\nTreasurer’s Report\nBudget Amendments\n\n  \nTo attend remotely\, two options are available: \n\nJoin Zoom Meeting (to use computer audio and video):\nhttps://us06web.zoom.us/j/87042567856\nMeeting ID: 870 4256 7856\nPasscode: BigBay\nCall In (to use phone for audio only):\nPhone: 1-689-278-1000\nMeeting ID: 870 4256 7856\nPasscode: 863563
URL:https://powelltownship.org/event/powell-township-board-meeting-11/
LOCATION:Powell Township Hall\, 101 Bensinger St\, Big Bay\, Michigan\, 49808
END:VEVENT
BEGIN:VEVENT
DTSTART;TZID=America/New_York:20251119T170000
DTEND;TZID=America/New_York:20251119T190000
DTSTAMP:20260420T124201
CREATED:20251023T181010Z
LAST-MODIFIED:20251023T182443Z
UID:10696-1763571600-1763578800@powelltownship.org
SUMMARY:FOOD BANK OPEN at BILL DIONNE (HALFWAY) FIRE HALL
DESCRIPTION:NOTICE – BILL DIONNE (HALFWAY) FIRE HALL FOOD BANK OPENINGS:\n5 – 7 P.M. on NOV 5\, NOV 19\, DEC 3\, DEC 17\, JAN 7\, JAN 21\, FEB 4\, FEB 18\, MAR 4\, and MAR 18 \n\nWith donated funds and volunteers\, the Powell Township Emergency Management Department will open the Bill Dionne Fire Hall at Halfway Food Bank starting November 5. Continuing it through summer will be determined in April.\nThe Food Bank will open from 5:00 to 7:00 P.M. on two Wednesdays per month: NOV 5 & 19\, DEC 3 & 17\, JAN 7 & 21\, FEB 4 & 18\, and MAR 4 & 18.\nNon-perishable food\, paper goods\, hygiene and cleaning supplies are available for anyone in need.   \nFor more information\, call Emergency Manager Kim Bourgeois (906-362-7275) or the township office (906-345-9345).\n\n  \nFood Bank Donations\n\nYou can make a monetary donation; make checks payable to Powell Township and note “food bank donation” in the memo line. A great holiday idea.\nYou can make a food/supply donation; drop off is available at the Powell Township office during regular office hours (Mon & Thu 9-12)\, or in the Powell Township Hall whenever it is open/active for events\, or dropped off during food bank operating hours at the Halfway Fire Hall.\nFor more information\, call Emergency Manager Kim Bourgeois (906-362-7275) or the township office (906-345-9345).
URL:https://powelltownship.org/event/food-bank-open-at-bill-dionne-halfway-fire-hall-6/
LOCATION:Bill Dionne (Halfway) Fire Hall\, Bill Dionne Fire Station\, MARQUETTE\, MI\, 49855\, United States
END:VEVENT
BEGIN:VEVENT
DTSTART;TZID=America/New_York:20251119T190000
DTEND;TZID=America/New_York:20251119T200000
DTSTAMP:20260420T124201
CREATED:20251020T161239Z
LAST-MODIFIED:20251020T180401Z
UID:10651-1763578800-1763582400@powelltownship.org
SUMMARY:Planning Commission Regular Meeting
DESCRIPTION:Planning Commission Regular Meeting\nNovember 19\, 2025\, 7:00 P.M (third Wednesday each month)\nPowell Township Hall\, 101 Bensinger St.\, Big Bay\, Michigan\, 49808
URL:https://powelltownship.org/event/planning-commission-regular-meeting-4/
LOCATION:Powell Township Hall\, 101 Bensinger St\, Big Bay\, Michigan\, 49808
END:VEVENT
BEGIN:VEVENT
DTSTART;TZID=America/New_York:20251120T090000
DTEND;TZID=America/New_York:20251120T160000
DTSTAMP:20260420T124201
CREATED:20251027T140027Z
LAST-MODIFIED:20251027T140110Z
UID:10738-1763629200-1763654400@powelltownship.org
SUMMARY:SENIOR SERVICES AT TOWN HALL
DESCRIPTION:NOTICE – SENIOR SERVICES AT TOWN HALL NOVEMBER 12 & 20\nNovember 12\, 9AM-4PM\nNovember 20\, 9AM – 4PM\nPowell Township Hall\, 101 Bensinger St.\, Big Bay\, Michigan\, 49808\n\nA Marquette Senior Center social worker will be at the Hall to provide services.\nFor more information or to schedule an appointment\, call 906-228-0456.\nSERVICES AND APPOINTMENTS ARE FREE OF CHARGE AND OPEN TO ALL SENIORS IN THE AREA.\nOne major goal is to help residents with health insurance registrations.
URL:https://powelltownship.org/event/senior-services-at-town-hall-2/
LOCATION:Powell Township Hall\, 101 Bensinger St\, Big Bay\, Michigan\, 49808
END:VEVENT
BEGIN:VEVENT
DTSTART;TZID=America/New_York:20251129T100000
DTEND;TZID=America/New_York:20251129T140000
DTSTAMP:20260420T124201
CREATED:20251125T002519Z
LAST-MODIFIED:20251125T002808Z
UID:10923-1764410400-1764424800@powelltownship.org
SUMMARY:HOLIDAY BAZAAR - 10AM - 2PM\, BIG BAY
DESCRIPTION:YOU ARE INVITED – HOLIDAY BAZAAR – NOVEMBER 29\, 10AM – 2PM\, BIG BAY\nPowell Township’s Saint Mary’s Catholic Church and Community Presbyterian Church will join together to host the “Wonderland Christmas Bazaar” for everyone on November 29\, from 10 A.M. to 2 P.M.\, in the Fellowship Hall of Community Presbyterian Church. The community is welcome and the bazaar will include lunch fare (chili\, hot dogs\, soups)\, holiday items and gifts\, short demonstrations\, and a craft corner for children to create ornaments. Also\, if you have a surplus of holiday decorations\, the hosts would be happy to take them as donations during the event — the ornaments will in turn be shared with the community.
URL:https://powelltownship.org/event/holiday-bazaar-10am-2pm-big-bay/
LOCATION:Community Presbyterian Church of Big Bay\, 300 Bensinger Street\, Big Bay\, 49808\, United States
END:VEVENT
END:VCALENDAR